BEGIN:VCALENDAR
VERSION:2.0
PRODID:-//Visit Eureka - ECPv6.15.19//NONSGML v1.0//EN
CALSCALE:GREGORIAN
METHOD:PUBLISH
X-WR-CALNAME:Visit Eureka
X-ORIGINAL-URL:https://www.visiteureka.com
X-WR-CALDESC:Events for Visit Eureka
REFRESH-INTERVAL;VALUE=DURATION:PT1H
X-Robots-Tag:noindex
X-PUBLISHED-TTL:PT1H
BEGIN:VTIMEZONE
TZID:UTC
BEGIN:STANDARD
TZOFFSETFROM:+0000
TZOFFSETTO:+0000
TZNAME:UTC
DTSTART:20240101T000000
END:STANDARD
END:VTIMEZONE
BEGIN:VEVENT
DTSTART;TZID=UTC:20251205T100000
DTEND;TZID=UTC:20251207T210000
DTSTAMP:20260420T214720
CREATED:20251118T121558Z
LAST-MODIFIED:20251203T123746Z
UID:10000025-1764928800-1765141200@www.visiteureka.com
SUMMARY:Humboldt Artisans Crafts & Music Festival
DESCRIPTION:Come celebrate the magic of this holiday season at the 45th Annual Humboldt Artisans Crafts & Music Festival. December 5\, 6\, & 7 at Redwood Acres!\nFriday 4 PM-9 PM\, Saturday & Sunday 10 AM-5 PM.\nWalk through 3 buildings stuffed with handmade gifts made by the north coast premier artisans\, find that special gift\, have a gourmet meal and enjoy live entertainment in every building.\nFree admission when you bring a toy for the Humboldt Bay Firefighters toy drive. Celebrate the magic at the Humboldt Artisans Crafts & Music Festival. For more information visit www.humboldtartisans.com.\nThe event is free for kids & seniors\, free with a toy for the Humboldt Bay Fire Department toy drive.\n$5 admission.
URL:https://www.visiteureka.com/event/humboldt-artisans-crafts-music-festival/
LOCATION:Redwood Acres\, Eureka\, CA\, 95503\, United States
CATEGORIES:Craft Fair
ATTACH;FMTTYPE=image/jpeg:https://www.visiteureka.com/wp-content/uploads/2025/11/2024_eigthpagexx-Humboldt-Artisans-Crafts-Music-Festival.jpg
END:VEVENT
BEGIN:VEVENT
DTSTART;TZID=UTC:20251201T080000
DTEND;TZID=UTC:20251207T200000
DTSTAMP:20260420T214720
CREATED:20251119T110222Z
LAST-MODIFIED:20251203T123835Z
UID:10000062-1764576000-1765137600@www.visiteureka.com
SUMMARY:Holiday Art Sale
DESCRIPTION:Holiday Art Sale of Karen Berman’s original abstract and expressive mixed media artwork. Selected paintings 30% off.
URL:https://www.visiteureka.com/event/holiday-art-sale/
LOCATION:Redwood Acres\, Eureka\, CA\, 95503\, United States
CATEGORIES:Holiday Activity
ATTACH;FMTTYPE=image/jpeg:https://www.visiteureka.com/wp-content/uploads/2025/11/85431D40-8029-44A0-9FB0-4ADB596AEDED-karen-berman.jpeg
END:VEVENT
END:VCALENDAR