BEGIN:VCALENDAR
VERSION:2.0
PRODID:-//Visit Eureka - ECPv6.15.19//NONSGML v1.0//EN
CALSCALE:GREGORIAN
METHOD:PUBLISH
X-WR-CALNAME:Visit Eureka
X-ORIGINAL-URL:https://www.visiteureka.com
X-WR-CALDESC:Events for Visit Eureka
REFRESH-INTERVAL;VALUE=DURATION:PT1H
X-Robots-Tag:noindex
X-PUBLISHED-TTL:PT1H
BEGIN:VTIMEZONE
TZID:UTC
BEGIN:STANDARD
TZOFFSETFROM:+0000
TZOFFSETTO:+0000
TZNAME:UTC
DTSTART:20250101T000000
END:STANDARD
END:VTIMEZONE
BEGIN:VEVENT
DTSTART;TZID=UTC:20260611T180000
DTEND;TZID=UTC:20260813T200000
DTSTAMP:20260420T064151
CREATED:20250620T083610Z
LAST-MODIFIED:20260305T112103Z
UID:10000002-1781200800-1786651200@www.visiteureka.com
SUMMARY:Concerts on the Boardwalk
DESCRIPTION:Free weekly live music featuring local bands along our distinct and historic waterfront. \nTime : Thursdays 6–8 PM
URL:https://www.visiteureka.com/event/redwood-coast-kite-festival/2026-06-11/
LOCATION:Madaket Plaza (1st & C St)\, Eureka\, CA\, 95501\, United States
ATTACH;FMTTYPE=image/jpeg:https://www.visiteureka.com/wp-content/uploads/2025/06/concert-series-eureka-board0_5e0429f2-5056-a36a-093e24ded3353eef.jpg
END:VEVENT
BEGIN:VEVENT
DTSTART;TZID=UTC:20260618T180000
DTEND;TZID=UTC:20260820T200000
DTSTAMP:20260420T064151
CREATED:20250620T083610Z
LAST-MODIFIED:20260305T112103Z
UID:10000117-1781805600-1787256000@www.visiteureka.com
SUMMARY:Concerts on the Boardwalk
DESCRIPTION:Free weekly live music featuring local bands along our distinct and historic waterfront. \nTime : Thursdays 6–8 PM
URL:https://www.visiteureka.com/event/redwood-coast-kite-festival/2026-06-18/
LOCATION:Madaket Plaza (1st & C St)\, Eureka\, CA\, 95501\, United States
ATTACH;FMTTYPE=image/jpeg:https://www.visiteureka.com/wp-content/uploads/2025/06/concert-series-eureka-board0_5e0429f2-5056-a36a-093e24ded3353eef.jpg
END:VEVENT
BEGIN:VEVENT
DTSTART;TZID=UTC:20260625T180000
DTEND;TZID=UTC:20260827T200000
DTSTAMP:20260420T064151
CREATED:20250620T083610Z
LAST-MODIFIED:20260305T112103Z
UID:10000118-1782410400-1787860800@www.visiteureka.com
SUMMARY:Concerts on the Boardwalk
DESCRIPTION:Free weekly live music featuring local bands along our distinct and historic waterfront. \nTime : Thursdays 6–8 PM
URL:https://www.visiteureka.com/event/redwood-coast-kite-festival/2026-06-25/
LOCATION:Madaket Plaza (1st & C St)\, Eureka\, CA\, 95501\, United States
ATTACH;FMTTYPE=image/jpeg:https://www.visiteureka.com/wp-content/uploads/2025/06/concert-series-eureka-board0_5e0429f2-5056-a36a-093e24ded3353eef.jpg
END:VEVENT
BEGIN:VEVENT
DTSTART;TZID=UTC:20260702T180000
DTEND;TZID=UTC:20260903T200000
DTSTAMP:20260420T064151
CREATED:20250620T083610Z
LAST-MODIFIED:20260305T112103Z
UID:10000119-1783015200-1788465600@www.visiteureka.com
SUMMARY:Concerts on the Boardwalk
DESCRIPTION:Free weekly live music featuring local bands along our distinct and historic waterfront. \nTime : Thursdays 6–8 PM
URL:https://www.visiteureka.com/event/redwood-coast-kite-festival/2026-07-02/
LOCATION:Madaket Plaza (1st & C St)\, Eureka\, CA\, 95501\, United States
ATTACH;FMTTYPE=image/jpeg:https://www.visiteureka.com/wp-content/uploads/2025/06/concert-series-eureka-board0_5e0429f2-5056-a36a-093e24ded3353eef.jpg
END:VEVENT
BEGIN:VEVENT
DTSTART;TZID=UTC:20260709T180000
DTEND;TZID=UTC:20260910T200000
DTSTAMP:20260420T064151
CREATED:20250620T083610Z
LAST-MODIFIED:20260305T112103Z
UID:10000120-1783620000-1789070400@www.visiteureka.com
SUMMARY:Concerts on the Boardwalk
DESCRIPTION:Free weekly live music featuring local bands along our distinct and historic waterfront. \nTime : Thursdays 6–8 PM
URL:https://www.visiteureka.com/event/redwood-coast-kite-festival/2026-07-09/
LOCATION:Madaket Plaza (1st & C St)\, Eureka\, CA\, 95501\, United States
ATTACH;FMTTYPE=image/jpeg:https://www.visiteureka.com/wp-content/uploads/2025/06/concert-series-eureka-board0_5e0429f2-5056-a36a-093e24ded3353eef.jpg
END:VEVENT
BEGIN:VEVENT
DTSTART;TZID=UTC:20260716T180000
DTEND;TZID=UTC:20260917T200000
DTSTAMP:20260420T064151
CREATED:20250620T083610Z
LAST-MODIFIED:20260305T112103Z
UID:10000121-1784224800-1789675200@www.visiteureka.com
SUMMARY:Concerts on the Boardwalk
DESCRIPTION:Free weekly live music featuring local bands along our distinct and historic waterfront. \nTime : Thursdays 6–8 PM
URL:https://www.visiteureka.com/event/redwood-coast-kite-festival/2026-07-16/
LOCATION:Madaket Plaza (1st & C St)\, Eureka\, CA\, 95501\, United States
ATTACH;FMTTYPE=image/jpeg:https://www.visiteureka.com/wp-content/uploads/2025/06/concert-series-eureka-board0_5e0429f2-5056-a36a-093e24ded3353eef.jpg
END:VEVENT
BEGIN:VEVENT
DTSTART;TZID=UTC:20260723T180000
DTEND;TZID=UTC:20260924T200000
DTSTAMP:20260420T064151
CREATED:20250620T083610Z
LAST-MODIFIED:20260305T112103Z
UID:10000122-1784829600-1790280000@www.visiteureka.com
SUMMARY:Concerts on the Boardwalk
DESCRIPTION:Free weekly live music featuring local bands along our distinct and historic waterfront. \nTime : Thursdays 6–8 PM
URL:https://www.visiteureka.com/event/redwood-coast-kite-festival/2026-07-23/
LOCATION:Madaket Plaza (1st & C St)\, Eureka\, CA\, 95501\, United States
ATTACH;FMTTYPE=image/jpeg:https://www.visiteureka.com/wp-content/uploads/2025/06/concert-series-eureka-board0_5e0429f2-5056-a36a-093e24ded3353eef.jpg
END:VEVENT
BEGIN:VEVENT
DTSTART;TZID=UTC:20260730T180000
DTEND;TZID=UTC:20261001T200000
DTSTAMP:20260420T064151
CREATED:20250620T083610Z
LAST-MODIFIED:20260305T112103Z
UID:10000123-1785434400-1790884800@www.visiteureka.com
SUMMARY:Concerts on the Boardwalk
DESCRIPTION:Free weekly live music featuring local bands along our distinct and historic waterfront. \nTime : Thursdays 6–8 PM
URL:https://www.visiteureka.com/event/redwood-coast-kite-festival/2026-07-30/
LOCATION:Madaket Plaza (1st & C St)\, Eureka\, CA\, 95501\, United States
ATTACH;FMTTYPE=image/jpeg:https://www.visiteureka.com/wp-content/uploads/2025/06/concert-series-eureka-board0_5e0429f2-5056-a36a-093e24ded3353eef.jpg
END:VEVENT
BEGIN:VEVENT
DTSTART;TZID=UTC:20260806T180000
DTEND;TZID=UTC:20261008T200000
DTSTAMP:20260420T064151
CREATED:20250620T083610Z
LAST-MODIFIED:20260305T112103Z
UID:10000124-1786039200-1791489600@www.visiteureka.com
SUMMARY:Concerts on the Boardwalk
DESCRIPTION:Free weekly live music featuring local bands along our distinct and historic waterfront. \nTime : Thursdays 6–8 PM
URL:https://www.visiteureka.com/event/redwood-coast-kite-festival/2026-08-06/
LOCATION:Madaket Plaza (1st & C St)\, Eureka\, CA\, 95501\, United States
ATTACH;FMTTYPE=image/jpeg:https://www.visiteureka.com/wp-content/uploads/2025/06/concert-series-eureka-board0_5e0429f2-5056-a36a-093e24ded3353eef.jpg
END:VEVENT
BEGIN:VEVENT
DTSTART;TZID=UTC:20260813T180000
DTEND;TZID=UTC:20261015T200000
DTSTAMP:20260420T064151
CREATED:20250620T083610Z
LAST-MODIFIED:20260305T112103Z
UID:10000125-1786644000-1792094400@www.visiteureka.com
SUMMARY:Concerts on the Boardwalk
DESCRIPTION:Free weekly live music featuring local bands along our distinct and historic waterfront. \nTime : Thursdays 6–8 PM
URL:https://www.visiteureka.com/event/redwood-coast-kite-festival/2026-08-13/
LOCATION:Madaket Plaza (1st & C St)\, Eureka\, CA\, 95501\, United States
ATTACH;FMTTYPE=image/jpeg:https://www.visiteureka.com/wp-content/uploads/2025/06/concert-series-eureka-board0_5e0429f2-5056-a36a-093e24ded3353eef.jpg
END:VEVENT
END:VCALENDAR