BEGIN:VCALENDAR
VERSION:2.0
PRODID:-//Visit Eureka - ECPv6.15.19//NONSGML v1.0//EN
CALSCALE:GREGORIAN
METHOD:PUBLISH
X-WR-CALNAME:Visit Eureka
X-ORIGINAL-URL:https://www.visiteureka.com
X-WR-CALDESC:Events for Visit Eureka
REFRESH-INTERVAL;VALUE=DURATION:PT1H
X-Robots-Tag:noindex
X-PUBLISHED-TTL:PT1H
BEGIN:VTIMEZONE
TZID:UTC
BEGIN:STANDARD
TZOFFSETFROM:+0000
TZOFFSETTO:+0000
TZNAME:UTC
DTSTART:20250101T000000
END:STANDARD
END:VTIMEZONE
BEGIN:VEVENT
DTSTART;TZID=UTC:20260604T100000
DTEND;TZID=UTC:20261112T130000
DTSTAMP:20260420T060501
CREATED:20250624T120048Z
LAST-MODIFIED:20260305T114654Z
UID:10000005-1780567200-1794488400@www.visiteureka.com
SUMMARY:Farmer’s Market – Henderson Center
DESCRIPTION:A popular mid-week tradition in Henderson Center offering fresh produce\, local crafts\, and a cozy community vibe. \nFrequency: Weekly \nTime: Thursdays 10 AM–1 PM
URL:https://www.visiteureka.com/event/farmers-market-henderson-center/2026-06-04/
LOCATION:Henderson Center\, F & Henderson St\, Eureka\, CA\, 95501\, United States
ATTACH;FMTTYPE=image/jpeg:https://www.visiteureka.com/wp-content/uploads/2025/06/arcata-farmers-market-20-98ade6215056a36_98ade7ed-5056-a36a-09bb95de4d2f1dd7.jpg
END:VEVENT
BEGIN:VEVENT
DTSTART;TZID=UTC:20260611T100000
DTEND;TZID=UTC:20261119T130000
DTSTAMP:20260420T060501
CREATED:20250624T120048Z
LAST-MODIFIED:20260305T114654Z
UID:10000151-1781172000-1795093200@www.visiteureka.com
SUMMARY:Farmer’s Market – Henderson Center
DESCRIPTION:A popular mid-week tradition in Henderson Center offering fresh produce\, local crafts\, and a cozy community vibe. \nFrequency: Weekly \nTime: Thursdays 10 AM–1 PM
URL:https://www.visiteureka.com/event/farmers-market-henderson-center/2026-06-11/
LOCATION:Henderson Center\, F & Henderson St\, Eureka\, CA\, 95501\, United States
ATTACH;FMTTYPE=image/jpeg:https://www.visiteureka.com/wp-content/uploads/2025/06/arcata-farmers-market-20-98ade6215056a36_98ade7ed-5056-a36a-09bb95de4d2f1dd7.jpg
END:VEVENT
BEGIN:VEVENT
DTSTART;TZID=UTC:20260618T100000
DTEND;TZID=UTC:20261126T130000
DTSTAMP:20260420T060501
CREATED:20250624T120048Z
LAST-MODIFIED:20260305T114654Z
UID:10000152-1781776800-1795698000@www.visiteureka.com
SUMMARY:Farmer’s Market – Henderson Center
DESCRIPTION:A popular mid-week tradition in Henderson Center offering fresh produce\, local crafts\, and a cozy community vibe. \nFrequency: Weekly \nTime: Thursdays 10 AM–1 PM
URL:https://www.visiteureka.com/event/farmers-market-henderson-center/2026-06-18/
LOCATION:Henderson Center\, F & Henderson St\, Eureka\, CA\, 95501\, United States
ATTACH;FMTTYPE=image/jpeg:https://www.visiteureka.com/wp-content/uploads/2025/06/arcata-farmers-market-20-98ade6215056a36_98ade7ed-5056-a36a-09bb95de4d2f1dd7.jpg
END:VEVENT
BEGIN:VEVENT
DTSTART;TZID=UTC:20260625T100000
DTEND;TZID=UTC:20261203T130000
DTSTAMP:20260420T060501
CREATED:20250624T120048Z
LAST-MODIFIED:20260305T114654Z
UID:10000153-1782381600-1796302800@www.visiteureka.com
SUMMARY:Farmer’s Market – Henderson Center
DESCRIPTION:A popular mid-week tradition in Henderson Center offering fresh produce\, local crafts\, and a cozy community vibe. \nFrequency: Weekly \nTime: Thursdays 10 AM–1 PM
URL:https://www.visiteureka.com/event/farmers-market-henderson-center/2026-06-25/
LOCATION:Henderson Center\, F & Henderson St\, Eureka\, CA\, 95501\, United States
ATTACH;FMTTYPE=image/jpeg:https://www.visiteureka.com/wp-content/uploads/2025/06/arcata-farmers-market-20-98ade6215056a36_98ade7ed-5056-a36a-09bb95de4d2f1dd7.jpg
END:VEVENT
BEGIN:VEVENT
DTSTART;TZID=UTC:20260702T100000
DTEND;TZID=UTC:20261210T130000
DTSTAMP:20260420T060501
CREATED:20250624T120048Z
LAST-MODIFIED:20260305T114654Z
UID:10000154-1782986400-1796907600@www.visiteureka.com
SUMMARY:Farmer’s Market – Henderson Center
DESCRIPTION:A popular mid-week tradition in Henderson Center offering fresh produce\, local crafts\, and a cozy community vibe. \nFrequency: Weekly \nTime: Thursdays 10 AM–1 PM
URL:https://www.visiteureka.com/event/farmers-market-henderson-center/2026-07-02/
LOCATION:Henderson Center\, F & Henderson St\, Eureka\, CA\, 95501\, United States
ATTACH;FMTTYPE=image/jpeg:https://www.visiteureka.com/wp-content/uploads/2025/06/arcata-farmers-market-20-98ade6215056a36_98ade7ed-5056-a36a-09bb95de4d2f1dd7.jpg
END:VEVENT
BEGIN:VEVENT
DTSTART;TZID=UTC:20260709T100000
DTEND;TZID=UTC:20261217T130000
DTSTAMP:20260420T060501
CREATED:20250624T120048Z
LAST-MODIFIED:20260305T114654Z
UID:10000155-1783591200-1797512400@www.visiteureka.com
SUMMARY:Farmer’s Market – Henderson Center
DESCRIPTION:A popular mid-week tradition in Henderson Center offering fresh produce\, local crafts\, and a cozy community vibe. \nFrequency: Weekly \nTime: Thursdays 10 AM–1 PM
URL:https://www.visiteureka.com/event/farmers-market-henderson-center/2026-07-09/
LOCATION:Henderson Center\, F & Henderson St\, Eureka\, CA\, 95501\, United States
ATTACH;FMTTYPE=image/jpeg:https://www.visiteureka.com/wp-content/uploads/2025/06/arcata-farmers-market-20-98ade6215056a36_98ade7ed-5056-a36a-09bb95de4d2f1dd7.jpg
END:VEVENT
BEGIN:VEVENT
DTSTART;TZID=UTC:20260716T100000
DTEND;TZID=UTC:20261224T130000
DTSTAMP:20260420T060501
CREATED:20250624T120048Z
LAST-MODIFIED:20260305T114654Z
UID:10000156-1784196000-1798117200@www.visiteureka.com
SUMMARY:Farmer’s Market – Henderson Center
DESCRIPTION:A popular mid-week tradition in Henderson Center offering fresh produce\, local crafts\, and a cozy community vibe. \nFrequency: Weekly \nTime: Thursdays 10 AM–1 PM
URL:https://www.visiteureka.com/event/farmers-market-henderson-center/2026-07-16/
LOCATION:Henderson Center\, F & Henderson St\, Eureka\, CA\, 95501\, United States
ATTACH;FMTTYPE=image/jpeg:https://www.visiteureka.com/wp-content/uploads/2025/06/arcata-farmers-market-20-98ade6215056a36_98ade7ed-5056-a36a-09bb95de4d2f1dd7.jpg
END:VEVENT
BEGIN:VEVENT
DTSTART;TZID=UTC:20260723T100000
DTEND;TZID=UTC:20261231T130000
DTSTAMP:20260420T060501
CREATED:20250624T120048Z
LAST-MODIFIED:20260305T114654Z
UID:10000157-1784800800-1798722000@www.visiteureka.com
SUMMARY:Farmer’s Market – Henderson Center
DESCRIPTION:A popular mid-week tradition in Henderson Center offering fresh produce\, local crafts\, and a cozy community vibe. \nFrequency: Weekly \nTime: Thursdays 10 AM–1 PM
URL:https://www.visiteureka.com/event/farmers-market-henderson-center/2026-07-23/
LOCATION:Henderson Center\, F & Henderson St\, Eureka\, CA\, 95501\, United States
ATTACH;FMTTYPE=image/jpeg:https://www.visiteureka.com/wp-content/uploads/2025/06/arcata-farmers-market-20-98ade6215056a36_98ade7ed-5056-a36a-09bb95de4d2f1dd7.jpg
END:VEVENT
BEGIN:VEVENT
DTSTART;TZID=UTC:20260730T100000
DTEND;TZID=UTC:20270107T130000
DTSTAMP:20260420T060501
CREATED:20250624T120048Z
LAST-MODIFIED:20260305T114654Z
UID:10000158-1785405600-1799326800@www.visiteureka.com
SUMMARY:Farmer’s Market – Henderson Center
DESCRIPTION:A popular mid-week tradition in Henderson Center offering fresh produce\, local crafts\, and a cozy community vibe. \nFrequency: Weekly \nTime: Thursdays 10 AM–1 PM
URL:https://www.visiteureka.com/event/farmers-market-henderson-center/2026-07-30/
LOCATION:Henderson Center\, F & Henderson St\, Eureka\, CA\, 95501\, United States
ATTACH;FMTTYPE=image/jpeg:https://www.visiteureka.com/wp-content/uploads/2025/06/arcata-farmers-market-20-98ade6215056a36_98ade7ed-5056-a36a-09bb95de4d2f1dd7.jpg
END:VEVENT
BEGIN:VEVENT
DTSTART;TZID=UTC:20260806T100000
DTEND;TZID=UTC:20270114T130000
DTSTAMP:20260420T060501
CREATED:20250624T120048Z
LAST-MODIFIED:20260305T114654Z
UID:10000159-1786010400-1799931600@www.visiteureka.com
SUMMARY:Farmer’s Market – Henderson Center
DESCRIPTION:A popular mid-week tradition in Henderson Center offering fresh produce\, local crafts\, and a cozy community vibe. \nFrequency: Weekly \nTime: Thursdays 10 AM–1 PM
URL:https://www.visiteureka.com/event/farmers-market-henderson-center/2026-08-06/
LOCATION:Henderson Center\, F & Henderson St\, Eureka\, CA\, 95501\, United States
ATTACH;FMTTYPE=image/jpeg:https://www.visiteureka.com/wp-content/uploads/2025/06/arcata-farmers-market-20-98ade6215056a36_98ade7ed-5056-a36a-09bb95de4d2f1dd7.jpg
END:VEVENT
BEGIN:VEVENT
DTSTART;TZID=UTC:20260813T100000
DTEND;TZID=UTC:20270121T130000
DTSTAMP:20260420T060501
CREATED:20250624T120048Z
LAST-MODIFIED:20260305T114654Z
UID:10000160-1786615200-1800536400@www.visiteureka.com
SUMMARY:Farmer’s Market – Henderson Center
DESCRIPTION:A popular mid-week tradition in Henderson Center offering fresh produce\, local crafts\, and a cozy community vibe. \nFrequency: Weekly \nTime: Thursdays 10 AM–1 PM
URL:https://www.visiteureka.com/event/farmers-market-henderson-center/2026-08-13/
LOCATION:Henderson Center\, F & Henderson St\, Eureka\, CA\, 95501\, United States
ATTACH;FMTTYPE=image/jpeg:https://www.visiteureka.com/wp-content/uploads/2025/06/arcata-farmers-market-20-98ade6215056a36_98ade7ed-5056-a36a-09bb95de4d2f1dd7.jpg
END:VEVENT
BEGIN:VEVENT
DTSTART;TZID=UTC:20260820T100000
DTEND;TZID=UTC:20270128T130000
DTSTAMP:20260420T060501
CREATED:20250624T120048Z
LAST-MODIFIED:20260305T114654Z
UID:10000161-1787220000-1801141200@www.visiteureka.com
SUMMARY:Farmer’s Market – Henderson Center
DESCRIPTION:A popular mid-week tradition in Henderson Center offering fresh produce\, local crafts\, and a cozy community vibe. \nFrequency: Weekly \nTime: Thursdays 10 AM–1 PM
URL:https://www.visiteureka.com/event/farmers-market-henderson-center/2026-08-20/
LOCATION:Henderson Center\, F & Henderson St\, Eureka\, CA\, 95501\, United States
ATTACH;FMTTYPE=image/jpeg:https://www.visiteureka.com/wp-content/uploads/2025/06/arcata-farmers-market-20-98ade6215056a36_98ade7ed-5056-a36a-09bb95de4d2f1dd7.jpg
END:VEVENT
BEGIN:VEVENT
DTSTART;TZID=UTC:20260827T100000
DTEND;TZID=UTC:20270204T130000
DTSTAMP:20260420T060501
CREATED:20250624T120048Z
LAST-MODIFIED:20260305T114654Z
UID:10000162-1787824800-1801746000@www.visiteureka.com
SUMMARY:Farmer’s Market – Henderson Center
DESCRIPTION:A popular mid-week tradition in Henderson Center offering fresh produce\, local crafts\, and a cozy community vibe. \nFrequency: Weekly \nTime: Thursdays 10 AM–1 PM
URL:https://www.visiteureka.com/event/farmers-market-henderson-center/2026-08-27/
LOCATION:Henderson Center\, F & Henderson St\, Eureka\, CA\, 95501\, United States
ATTACH;FMTTYPE=image/jpeg:https://www.visiteureka.com/wp-content/uploads/2025/06/arcata-farmers-market-20-98ade6215056a36_98ade7ed-5056-a36a-09bb95de4d2f1dd7.jpg
END:VEVENT
BEGIN:VEVENT
DTSTART;TZID=UTC:20260903T100000
DTEND;TZID=UTC:20270211T130000
DTSTAMP:20260420T060501
CREATED:20250624T120048Z
LAST-MODIFIED:20260305T114654Z
UID:10000163-1788429600-1802350800@www.visiteureka.com
SUMMARY:Farmer’s Market – Henderson Center
DESCRIPTION:A popular mid-week tradition in Henderson Center offering fresh produce\, local crafts\, and a cozy community vibe. \nFrequency: Weekly \nTime: Thursdays 10 AM–1 PM
URL:https://www.visiteureka.com/event/farmers-market-henderson-center/2026-09-03/
LOCATION:Henderson Center\, F & Henderson St\, Eureka\, CA\, 95501\, United States
ATTACH;FMTTYPE=image/jpeg:https://www.visiteureka.com/wp-content/uploads/2025/06/arcata-farmers-market-20-98ade6215056a36_98ade7ed-5056-a36a-09bb95de4d2f1dd7.jpg
END:VEVENT
BEGIN:VEVENT
DTSTART;TZID=UTC:20260910T100000
DTEND;TZID=UTC:20270218T130000
DTSTAMP:20260420T060501
CREATED:20250624T120048Z
LAST-MODIFIED:20260305T114654Z
UID:10000164-1789034400-1802955600@www.visiteureka.com
SUMMARY:Farmer’s Market – Henderson Center
DESCRIPTION:A popular mid-week tradition in Henderson Center offering fresh produce\, local crafts\, and a cozy community vibe. \nFrequency: Weekly \nTime: Thursdays 10 AM–1 PM
URL:https://www.visiteureka.com/event/farmers-market-henderson-center/2026-09-10/
LOCATION:Henderson Center\, F & Henderson St\, Eureka\, CA\, 95501\, United States
ATTACH;FMTTYPE=image/jpeg:https://www.visiteureka.com/wp-content/uploads/2025/06/arcata-farmers-market-20-98ade6215056a36_98ade7ed-5056-a36a-09bb95de4d2f1dd7.jpg
END:VEVENT
BEGIN:VEVENT
DTSTART;TZID=UTC:20260917T100000
DTEND;TZID=UTC:20270225T130000
DTSTAMP:20260420T060501
CREATED:20250624T120048Z
LAST-MODIFIED:20260305T114654Z
UID:10000165-1789639200-1803560400@www.visiteureka.com
SUMMARY:Farmer’s Market – Henderson Center
DESCRIPTION:A popular mid-week tradition in Henderson Center offering fresh produce\, local crafts\, and a cozy community vibe. \nFrequency: Weekly \nTime: Thursdays 10 AM–1 PM
URL:https://www.visiteureka.com/event/farmers-market-henderson-center/2026-09-17/
LOCATION:Henderson Center\, F & Henderson St\, Eureka\, CA\, 95501\, United States
ATTACH;FMTTYPE=image/jpeg:https://www.visiteureka.com/wp-content/uploads/2025/06/arcata-farmers-market-20-98ade6215056a36_98ade7ed-5056-a36a-09bb95de4d2f1dd7.jpg
END:VEVENT
BEGIN:VEVENT
DTSTART;TZID=UTC:20260924T100000
DTEND;TZID=UTC:20270304T130000
DTSTAMP:20260420T060501
CREATED:20250624T120048Z
LAST-MODIFIED:20260305T114654Z
UID:10000166-1790244000-1804165200@www.visiteureka.com
SUMMARY:Farmer’s Market – Henderson Center
DESCRIPTION:A popular mid-week tradition in Henderson Center offering fresh produce\, local crafts\, and a cozy community vibe. \nFrequency: Weekly \nTime: Thursdays 10 AM–1 PM
URL:https://www.visiteureka.com/event/farmers-market-henderson-center/2026-09-24/
LOCATION:Henderson Center\, F & Henderson St\, Eureka\, CA\, 95501\, United States
ATTACH;FMTTYPE=image/jpeg:https://www.visiteureka.com/wp-content/uploads/2025/06/arcata-farmers-market-20-98ade6215056a36_98ade7ed-5056-a36a-09bb95de4d2f1dd7.jpg
END:VEVENT
BEGIN:VEVENT
DTSTART;TZID=UTC:20261001T100000
DTEND;TZID=UTC:20270311T130000
DTSTAMP:20260420T060501
CREATED:20250624T120048Z
LAST-MODIFIED:20260305T114654Z
UID:10000167-1790848800-1804770000@www.visiteureka.com
SUMMARY:Farmer’s Market – Henderson Center
DESCRIPTION:A popular mid-week tradition in Henderson Center offering fresh produce\, local crafts\, and a cozy community vibe. \nFrequency: Weekly \nTime: Thursdays 10 AM–1 PM
URL:https://www.visiteureka.com/event/farmers-market-henderson-center/2026-10-01/
LOCATION:Henderson Center\, F & Henderson St\, Eureka\, CA\, 95501\, United States
ATTACH;FMTTYPE=image/jpeg:https://www.visiteureka.com/wp-content/uploads/2025/06/arcata-farmers-market-20-98ade6215056a36_98ade7ed-5056-a36a-09bb95de4d2f1dd7.jpg
END:VEVENT
BEGIN:VEVENT
DTSTART;TZID=UTC:20261008T100000
DTEND;TZID=UTC:20270318T130000
DTSTAMP:20260420T060501
CREATED:20250624T120048Z
LAST-MODIFIED:20260305T114654Z
UID:10000168-1791453600-1805374800@www.visiteureka.com
SUMMARY:Farmer’s Market – Henderson Center
DESCRIPTION:A popular mid-week tradition in Henderson Center offering fresh produce\, local crafts\, and a cozy community vibe. \nFrequency: Weekly \nTime: Thursdays 10 AM–1 PM
URL:https://www.visiteureka.com/event/farmers-market-henderson-center/2026-10-08/
LOCATION:Henderson Center\, F & Henderson St\, Eureka\, CA\, 95501\, United States
ATTACH;FMTTYPE=image/jpeg:https://www.visiteureka.com/wp-content/uploads/2025/06/arcata-farmers-market-20-98ade6215056a36_98ade7ed-5056-a36a-09bb95de4d2f1dd7.jpg
END:VEVENT
BEGIN:VEVENT
DTSTART;TZID=UTC:20261015T100000
DTEND;TZID=UTC:20270325T130000
DTSTAMP:20260420T060501
CREATED:20250624T120048Z
LAST-MODIFIED:20260305T114654Z
UID:10000169-1792058400-1805979600@www.visiteureka.com
SUMMARY:Farmer’s Market – Henderson Center
DESCRIPTION:A popular mid-week tradition in Henderson Center offering fresh produce\, local crafts\, and a cozy community vibe. \nFrequency: Weekly \nTime: Thursdays 10 AM–1 PM
URL:https://www.visiteureka.com/event/farmers-market-henderson-center/2026-10-15/
LOCATION:Henderson Center\, F & Henderson St\, Eureka\, CA\, 95501\, United States
ATTACH;FMTTYPE=image/jpeg:https://www.visiteureka.com/wp-content/uploads/2025/06/arcata-farmers-market-20-98ade6215056a36_98ade7ed-5056-a36a-09bb95de4d2f1dd7.jpg
END:VEVENT
BEGIN:VEVENT
DTSTART;TZID=UTC:20261022T100000
DTEND;TZID=UTC:20270401T130000
DTSTAMP:20260420T060501
CREATED:20250624T120048Z
LAST-MODIFIED:20260305T114654Z
UID:10000170-1792663200-1806584400@www.visiteureka.com
SUMMARY:Farmer’s Market – Henderson Center
DESCRIPTION:A popular mid-week tradition in Henderson Center offering fresh produce\, local crafts\, and a cozy community vibe. \nFrequency: Weekly \nTime: Thursdays 10 AM–1 PM
URL:https://www.visiteureka.com/event/farmers-market-henderson-center/2026-10-22/
LOCATION:Henderson Center\, F & Henderson St\, Eureka\, CA\, 95501\, United States
ATTACH;FMTTYPE=image/jpeg:https://www.visiteureka.com/wp-content/uploads/2025/06/arcata-farmers-market-20-98ade6215056a36_98ade7ed-5056-a36a-09bb95de4d2f1dd7.jpg
END:VEVENT
BEGIN:VEVENT
DTSTART;TZID=UTC:20261029T100000
DTEND;TZID=UTC:20270408T130000
DTSTAMP:20260420T060501
CREATED:20250624T120048Z
LAST-MODIFIED:20260305T114654Z
UID:10000171-1793268000-1807189200@www.visiteureka.com
SUMMARY:Farmer’s Market – Henderson Center
DESCRIPTION:A popular mid-week tradition in Henderson Center offering fresh produce\, local crafts\, and a cozy community vibe. \nFrequency: Weekly \nTime: Thursdays 10 AM–1 PM
URL:https://www.visiteureka.com/event/farmers-market-henderson-center/2026-10-29/
LOCATION:Henderson Center\, F & Henderson St\, Eureka\, CA\, 95501\, United States
ATTACH;FMTTYPE=image/jpeg:https://www.visiteureka.com/wp-content/uploads/2025/06/arcata-farmers-market-20-98ade6215056a36_98ade7ed-5056-a36a-09bb95de4d2f1dd7.jpg
END:VEVENT
BEGIN:VEVENT
DTSTART;TZID=UTC:20261105T100000
DTEND;TZID=UTC:20270415T130000
DTSTAMP:20260420T060501
CREATED:20250624T120048Z
LAST-MODIFIED:20260305T114654Z
UID:10000172-1793872800-1807794000@www.visiteureka.com
SUMMARY:Farmer’s Market – Henderson Center
DESCRIPTION:A popular mid-week tradition in Henderson Center offering fresh produce\, local crafts\, and a cozy community vibe. \nFrequency: Weekly \nTime: Thursdays 10 AM–1 PM
URL:https://www.visiteureka.com/event/farmers-market-henderson-center/2026-11-05/
LOCATION:Henderson Center\, F & Henderson St\, Eureka\, CA\, 95501\, United States
ATTACH;FMTTYPE=image/jpeg:https://www.visiteureka.com/wp-content/uploads/2025/06/arcata-farmers-market-20-98ade6215056a36_98ade7ed-5056-a36a-09bb95de4d2f1dd7.jpg
END:VEVENT
BEGIN:VEVENT
DTSTART;TZID=UTC:20261112T100000
DTEND;TZID=UTC:20270422T130000
DTSTAMP:20260420T060501
CREATED:20250624T120048Z
LAST-MODIFIED:20260305T114654Z
UID:10000173-1794477600-1808398800@www.visiteureka.com
SUMMARY:Farmer’s Market – Henderson Center
DESCRIPTION:A popular mid-week tradition in Henderson Center offering fresh produce\, local crafts\, and a cozy community vibe. \nFrequency: Weekly \nTime: Thursdays 10 AM–1 PM
URL:https://www.visiteureka.com/event/farmers-market-henderson-center/2026-11-12/
LOCATION:Henderson Center\, F & Henderson St\, Eureka\, CA\, 95501\, United States
ATTACH;FMTTYPE=image/jpeg:https://www.visiteureka.com/wp-content/uploads/2025/06/arcata-farmers-market-20-98ade6215056a36_98ade7ed-5056-a36a-09bb95de4d2f1dd7.jpg
END:VEVENT
END:VCALENDAR