BEGIN:VCALENDAR
VERSION:2.0
PRODID:-//Visit Eureka - ECPv6.15.19//NONSGML v1.0//EN
CALSCALE:GREGORIAN
METHOD:PUBLISH
X-WR-CALNAME:Visit Eureka
X-ORIGINAL-URL:https://www.visiteureka.com
X-WR-CALDESC:Events for Visit Eureka
REFRESH-INTERVAL;VALUE=DURATION:PT1H
X-Robots-Tag:noindex
X-PUBLISHED-TTL:PT1H
BEGIN:VTIMEZONE
TZID:UTC
BEGIN:STANDARD
TZOFFSETFROM:+0000
TZOFFSETTO:+0000
TZNAME:UTC
DTSTART:20250101T000000
END:STANDARD
END:VTIMEZONE
BEGIN:VEVENT
DTSTART;TZID=UTC:20260522T173000
DTEND;TZID=UTC:20260814T203000
DTSTAMP:20260420T055425
CREATED:20250509T125532Z
LAST-MODIFIED:20260415T070123Z
UID:10000001-1779471000-1786739400@www.visiteureka.com
SUMMARY:Eureka Friday Night Markets
DESCRIPTION:Summer street market with local food\, makers\, and live tunes. Note: We’re skipping July 3rd for the holiday. \nFrequency : Weekly \nTiming : Fridays 5:30–8:30 PM
URL:https://www.visiteureka.com/event/carter-house-inns/2026-05-22/
LOCATION:Old Town Gazebo\, 2nd & F St\, Old Town Eureka\, Eureka\, 95501\, United States
ATTACH;FMTTYPE=image/jpeg:https://www.visiteureka.com/wp-content/uploads/2025/05/Capture_2D2661D9-BC74-540B-E6BB447BF1A6425D_2d286f7c-b14a-5428-513c46fb89870baa.jpg
END:VEVENT
BEGIN:VEVENT
DTSTART;TZID=UTC:20260529T173000
DTEND;TZID=UTC:20260821T203000
DTSTAMP:20260420T055425
CREATED:20250509T125532Z
LAST-MODIFIED:20260415T070123Z
UID:10000106-1780075800-1787344200@www.visiteureka.com
SUMMARY:Eureka Friday Night Markets
DESCRIPTION:Summer street market with local food\, makers\, and live tunes. Note: We’re skipping July 3rd for the holiday. \nFrequency : Weekly \nTiming : Fridays 5:30–8:30 PM
URL:https://www.visiteureka.com/event/carter-house-inns/2026-05-29/
LOCATION:Old Town Gazebo\, 2nd & F St\, Old Town Eureka\, Eureka\, 95501\, United States
ATTACH;FMTTYPE=image/jpeg:https://www.visiteureka.com/wp-content/uploads/2025/05/Capture_2D2661D9-BC74-540B-E6BB447BF1A6425D_2d286f7c-b14a-5428-513c46fb89870baa.jpg
END:VEVENT
BEGIN:VEVENT
DTSTART;TZID=UTC:20260605T173000
DTEND;TZID=UTC:20260828T203000
DTSTAMP:20260420T055425
CREATED:20250509T125532Z
LAST-MODIFIED:20260415T070123Z
UID:10000107-1780680600-1787949000@www.visiteureka.com
SUMMARY:Eureka Friday Night Markets
DESCRIPTION:Summer street market with local food\, makers\, and live tunes. Note: We’re skipping July 3rd for the holiday. \nFrequency : Weekly \nTiming : Fridays 5:30–8:30 PM
URL:https://www.visiteureka.com/event/carter-house-inns/2026-06-05/
LOCATION:Old Town Gazebo\, 2nd & F St\, Old Town Eureka\, Eureka\, 95501\, United States
ATTACH;FMTTYPE=image/jpeg:https://www.visiteureka.com/wp-content/uploads/2025/05/Capture_2D2661D9-BC74-540B-E6BB447BF1A6425D_2d286f7c-b14a-5428-513c46fb89870baa.jpg
END:VEVENT
BEGIN:VEVENT
DTSTART;TZID=UTC:20260612T173000
DTEND;TZID=UTC:20260904T203000
DTSTAMP:20260420T055425
CREATED:20250509T125532Z
LAST-MODIFIED:20260415T070123Z
UID:10000108-1781285400-1788553800@www.visiteureka.com
SUMMARY:Eureka Friday Night Markets
DESCRIPTION:Summer street market with local food\, makers\, and live tunes. Note: We’re skipping July 3rd for the holiday. \nFrequency : Weekly \nTiming : Fridays 5:30–8:30 PM
URL:https://www.visiteureka.com/event/carter-house-inns/2026-06-12/
LOCATION:Old Town Gazebo\, 2nd & F St\, Old Town Eureka\, Eureka\, 95501\, United States
ATTACH;FMTTYPE=image/jpeg:https://www.visiteureka.com/wp-content/uploads/2025/05/Capture_2D2661D9-BC74-540B-E6BB447BF1A6425D_2d286f7c-b14a-5428-513c46fb89870baa.jpg
END:VEVENT
BEGIN:VEVENT
DTSTART;TZID=UTC:20260619T173000
DTEND;TZID=UTC:20260911T203000
DTSTAMP:20260420T055425
CREATED:20250509T125532Z
LAST-MODIFIED:20260415T070123Z
UID:10000109-1781890200-1789158600@www.visiteureka.com
SUMMARY:Eureka Friday Night Markets
DESCRIPTION:Summer street market with local food\, makers\, and live tunes. Note: We’re skipping July 3rd for the holiday. \nFrequency : Weekly \nTiming : Fridays 5:30–8:30 PM
URL:https://www.visiteureka.com/event/carter-house-inns/2026-06-19/
LOCATION:Old Town Gazebo\, 2nd & F St\, Old Town Eureka\, Eureka\, 95501\, United States
ATTACH;FMTTYPE=image/jpeg:https://www.visiteureka.com/wp-content/uploads/2025/05/Capture_2D2661D9-BC74-540B-E6BB447BF1A6425D_2d286f7c-b14a-5428-513c46fb89870baa.jpg
END:VEVENT
BEGIN:VEVENT
DTSTART;TZID=UTC:20260626T173000
DTEND;TZID=UTC:20260918T203000
DTSTAMP:20260420T055425
CREATED:20250509T125532Z
LAST-MODIFIED:20260415T070123Z
UID:10000110-1782495000-1789763400@www.visiteureka.com
SUMMARY:Eureka Friday Night Markets
DESCRIPTION:Summer street market with local food\, makers\, and live tunes. Note: We’re skipping July 3rd for the holiday. \nFrequency : Weekly \nTiming : Fridays 5:30–8:30 PM
URL:https://www.visiteureka.com/event/carter-house-inns/2026-06-26/
LOCATION:Old Town Gazebo\, 2nd & F St\, Old Town Eureka\, Eureka\, 95501\, United States
ATTACH;FMTTYPE=image/jpeg:https://www.visiteureka.com/wp-content/uploads/2025/05/Capture_2D2661D9-BC74-540B-E6BB447BF1A6425D_2d286f7c-b14a-5428-513c46fb89870baa.jpg
END:VEVENT
BEGIN:VEVENT
DTSTART;TZID=UTC:20260707T100000
DTEND;TZID=UTC:20261027T130000
DTSTAMP:20260420T055425
CREATED:20250624T115606Z
LAST-MODIFIED:20260305T112516Z
UID:10000004-1783418400-1793106000@www.visiteureka.com
SUMMARY:Farmer’s Market – Old Town Eureka
DESCRIPTION:Grab lunch and shop for local produce and handmade goods in the heart of our historic district. \nFrequency : Weekly \nTime : Tuesdays 10 AM–1 PM
URL:https://www.visiteureka.com/event/farmers-market-old-town-eureka/2026-07-07/
LOCATION:Old Town Gazebo\, 2nd & F St\, Old Town Eureka\, Eureka\, 95501\, United States
ATTACH;FMTTYPE=image/jpeg:https://www.visiteureka.com/wp-content/uploads/2025/06/arcata-farmers-market-20-98ade6215056a36_98ade7ed-5056-a36a-09bb95de4d2f1dd7.jpg
END:VEVENT
BEGIN:VEVENT
DTSTART;TZID=UTC:20260710T173000
DTEND;TZID=UTC:20261002T203000
DTSTAMP:20260420T055425
CREATED:20250509T125532Z
LAST-MODIFIED:20260415T070123Z
UID:10000111-1783704600-1790973000@www.visiteureka.com
SUMMARY:Eureka Friday Night Markets
DESCRIPTION:Summer street market with local food\, makers\, and live tunes. Note: We’re skipping July 3rd for the holiday. \nFrequency : Weekly \nTiming : Fridays 5:30–8:30 PM
URL:https://www.visiteureka.com/event/carter-house-inns/2026-07-10/
LOCATION:Old Town Gazebo\, 2nd & F St\, Old Town Eureka\, Eureka\, 95501\, United States
ATTACH;FMTTYPE=image/jpeg:https://www.visiteureka.com/wp-content/uploads/2025/05/Capture_2D2661D9-BC74-540B-E6BB447BF1A6425D_2d286f7c-b14a-5428-513c46fb89870baa.jpg
END:VEVENT
BEGIN:VEVENT
DTSTART;TZID=UTC:20260714T100000
DTEND;TZID=UTC:20261103T130000
DTSTAMP:20260420T055425
CREATED:20250624T115606Z
LAST-MODIFIED:20260305T112516Z
UID:10000135-1784023200-1793710800@www.visiteureka.com
SUMMARY:Farmer’s Market – Old Town Eureka
DESCRIPTION:Grab lunch and shop for local produce and handmade goods in the heart of our historic district. \nFrequency : Weekly \nTime : Tuesdays 10 AM–1 PM
URL:https://www.visiteureka.com/event/farmers-market-old-town-eureka/2026-07-14/
LOCATION:Old Town Gazebo\, 2nd & F St\, Old Town Eureka\, Eureka\, 95501\, United States
ATTACH;FMTTYPE=image/jpeg:https://www.visiteureka.com/wp-content/uploads/2025/06/arcata-farmers-market-20-98ade6215056a36_98ade7ed-5056-a36a-09bb95de4d2f1dd7.jpg
END:VEVENT
BEGIN:VEVENT
DTSTART;TZID=UTC:20260717T173000
DTEND;TZID=UTC:20261009T203000
DTSTAMP:20260420T055425
CREATED:20250509T125532Z
LAST-MODIFIED:20260415T070123Z
UID:10000112-1784309400-1791577800@www.visiteureka.com
SUMMARY:Eureka Friday Night Markets
DESCRIPTION:Summer street market with local food\, makers\, and live tunes. Note: We’re skipping July 3rd for the holiday. \nFrequency : Weekly \nTiming : Fridays 5:30–8:30 PM
URL:https://www.visiteureka.com/event/carter-house-inns/2026-07-17/
LOCATION:Old Town Gazebo\, 2nd & F St\, Old Town Eureka\, Eureka\, 95501\, United States
ATTACH;FMTTYPE=image/jpeg:https://www.visiteureka.com/wp-content/uploads/2025/05/Capture_2D2661D9-BC74-540B-E6BB447BF1A6425D_2d286f7c-b14a-5428-513c46fb89870baa.jpg
END:VEVENT
BEGIN:VEVENT
DTSTART;TZID=UTC:20260721T100000
DTEND;TZID=UTC:20261110T130000
DTSTAMP:20260420T055425
CREATED:20250624T115606Z
LAST-MODIFIED:20260305T112516Z
UID:10000136-1784628000-1794315600@www.visiteureka.com
SUMMARY:Farmer’s Market – Old Town Eureka
DESCRIPTION:Grab lunch and shop for local produce and handmade goods in the heart of our historic district. \nFrequency : Weekly \nTime : Tuesdays 10 AM–1 PM
URL:https://www.visiteureka.com/event/farmers-market-old-town-eureka/2026-07-21/
LOCATION:Old Town Gazebo\, 2nd & F St\, Old Town Eureka\, Eureka\, 95501\, United States
ATTACH;FMTTYPE=image/jpeg:https://www.visiteureka.com/wp-content/uploads/2025/06/arcata-farmers-market-20-98ade6215056a36_98ade7ed-5056-a36a-09bb95de4d2f1dd7.jpg
END:VEVENT
BEGIN:VEVENT
DTSTART;TZID=UTC:20260724T173000
DTEND;TZID=UTC:20261016T203000
DTSTAMP:20260420T055425
CREATED:20250509T125532Z
LAST-MODIFIED:20260415T070123Z
UID:10000113-1784914200-1792182600@www.visiteureka.com
SUMMARY:Eureka Friday Night Markets
DESCRIPTION:Summer street market with local food\, makers\, and live tunes. Note: We’re skipping July 3rd for the holiday. \nFrequency : Weekly \nTiming : Fridays 5:30–8:30 PM
URL:https://www.visiteureka.com/event/carter-house-inns/2026-07-24/
LOCATION:Old Town Gazebo\, 2nd & F St\, Old Town Eureka\, Eureka\, 95501\, United States
ATTACH;FMTTYPE=image/jpeg:https://www.visiteureka.com/wp-content/uploads/2025/05/Capture_2D2661D9-BC74-540B-E6BB447BF1A6425D_2d286f7c-b14a-5428-513c46fb89870baa.jpg
END:VEVENT
BEGIN:VEVENT
DTSTART;TZID=UTC:20260728T100000
DTEND;TZID=UTC:20261117T130000
DTSTAMP:20260420T055425
CREATED:20250624T115606Z
LAST-MODIFIED:20260305T112516Z
UID:10000137-1785232800-1794920400@www.visiteureka.com
SUMMARY:Farmer’s Market – Old Town Eureka
DESCRIPTION:Grab lunch and shop for local produce and handmade goods in the heart of our historic district. \nFrequency : Weekly \nTime : Tuesdays 10 AM–1 PM
URL:https://www.visiteureka.com/event/farmers-market-old-town-eureka/2026-07-28/
LOCATION:Old Town Gazebo\, 2nd & F St\, Old Town Eureka\, Eureka\, 95501\, United States
ATTACH;FMTTYPE=image/jpeg:https://www.visiteureka.com/wp-content/uploads/2025/06/arcata-farmers-market-20-98ade6215056a36_98ade7ed-5056-a36a-09bb95de4d2f1dd7.jpg
END:VEVENT
BEGIN:VEVENT
DTSTART;TZID=UTC:20260731T173000
DTEND;TZID=UTC:20261023T203000
DTSTAMP:20260420T055425
CREATED:20250509T125532Z
LAST-MODIFIED:20260415T070123Z
UID:10000114-1785519000-1792787400@www.visiteureka.com
SUMMARY:Eureka Friday Night Markets
DESCRIPTION:Summer street market with local food\, makers\, and live tunes. Note: We’re skipping July 3rd for the holiday. \nFrequency : Weekly \nTiming : Fridays 5:30–8:30 PM
URL:https://www.visiteureka.com/event/carter-house-inns/2026-07-31/
LOCATION:Old Town Gazebo\, 2nd & F St\, Old Town Eureka\, Eureka\, 95501\, United States
ATTACH;FMTTYPE=image/jpeg:https://www.visiteureka.com/wp-content/uploads/2025/05/Capture_2D2661D9-BC74-540B-E6BB447BF1A6425D_2d286f7c-b14a-5428-513c46fb89870baa.jpg
END:VEVENT
BEGIN:VEVENT
DTSTART;TZID=UTC:20260804T100000
DTEND;TZID=UTC:20261124T130000
DTSTAMP:20260420T055425
CREATED:20250624T115606Z
LAST-MODIFIED:20260305T112516Z
UID:10000138-1785837600-1795525200@www.visiteureka.com
SUMMARY:Farmer’s Market – Old Town Eureka
DESCRIPTION:Grab lunch and shop for local produce and handmade goods in the heart of our historic district. \nFrequency : Weekly \nTime : Tuesdays 10 AM–1 PM
URL:https://www.visiteureka.com/event/farmers-market-old-town-eureka/2026-08-04/
LOCATION:Old Town Gazebo\, 2nd & F St\, Old Town Eureka\, Eureka\, 95501\, United States
ATTACH;FMTTYPE=image/jpeg:https://www.visiteureka.com/wp-content/uploads/2025/06/arcata-farmers-market-20-98ade6215056a36_98ade7ed-5056-a36a-09bb95de4d2f1dd7.jpg
END:VEVENT
BEGIN:VEVENT
DTSTART;TZID=UTC:20260807T173000
DTEND;TZID=UTC:20261030T203000
DTSTAMP:20260420T055425
CREATED:20250509T125532Z
LAST-MODIFIED:20260415T070123Z
UID:10000115-1786123800-1793392200@www.visiteureka.com
SUMMARY:Eureka Friday Night Markets
DESCRIPTION:Summer street market with local food\, makers\, and live tunes. Note: We’re skipping July 3rd for the holiday. \nFrequency : Weekly \nTiming : Fridays 5:30–8:30 PM
URL:https://www.visiteureka.com/event/carter-house-inns/2026-08-07/
LOCATION:Old Town Gazebo\, 2nd & F St\, Old Town Eureka\, Eureka\, 95501\, United States
ATTACH;FMTTYPE=image/jpeg:https://www.visiteureka.com/wp-content/uploads/2025/05/Capture_2D2661D9-BC74-540B-E6BB447BF1A6425D_2d286f7c-b14a-5428-513c46fb89870baa.jpg
END:VEVENT
BEGIN:VEVENT
DTSTART;TZID=UTC:20260811T100000
DTEND;TZID=UTC:20261201T130000
DTSTAMP:20260420T055425
CREATED:20250624T115606Z
LAST-MODIFIED:20260305T112516Z
UID:10000139-1786442400-1796130000@www.visiteureka.com
SUMMARY:Farmer’s Market – Old Town Eureka
DESCRIPTION:Grab lunch and shop for local produce and handmade goods in the heart of our historic district. \nFrequency : Weekly \nTime : Tuesdays 10 AM–1 PM
URL:https://www.visiteureka.com/event/farmers-market-old-town-eureka/2026-08-11/
LOCATION:Old Town Gazebo\, 2nd & F St\, Old Town Eureka\, Eureka\, 95501\, United States
ATTACH;FMTTYPE=image/jpeg:https://www.visiteureka.com/wp-content/uploads/2025/06/arcata-farmers-market-20-98ade6215056a36_98ade7ed-5056-a36a-09bb95de4d2f1dd7.jpg
END:VEVENT
BEGIN:VEVENT
DTSTART;TZID=UTC:20260814T173000
DTEND;TZID=UTC:20261106T203000
DTSTAMP:20260420T055425
CREATED:20250509T125532Z
LAST-MODIFIED:20260415T070123Z
UID:10000116-1786728600-1793997000@www.visiteureka.com
SUMMARY:Eureka Friday Night Markets
DESCRIPTION:Summer street market with local food\, makers\, and live tunes. Note: We’re skipping July 3rd for the holiday. \nFrequency : Weekly \nTiming : Fridays 5:30–8:30 PM
URL:https://www.visiteureka.com/event/carter-house-inns/2026-08-14/
LOCATION:Old Town Gazebo\, 2nd & F St\, Old Town Eureka\, Eureka\, 95501\, United States
ATTACH;FMTTYPE=image/jpeg:https://www.visiteureka.com/wp-content/uploads/2025/05/Capture_2D2661D9-BC74-540B-E6BB447BF1A6425D_2d286f7c-b14a-5428-513c46fb89870baa.jpg
END:VEVENT
BEGIN:VEVENT
DTSTART;TZID=UTC:20260818T100000
DTEND;TZID=UTC:20261208T130000
DTSTAMP:20260420T055425
CREATED:20250624T115606Z
LAST-MODIFIED:20260305T112516Z
UID:10000140-1787047200-1796734800@www.visiteureka.com
SUMMARY:Farmer’s Market – Old Town Eureka
DESCRIPTION:Grab lunch and shop for local produce and handmade goods in the heart of our historic district. \nFrequency : Weekly \nTime : Tuesdays 10 AM–1 PM
URL:https://www.visiteureka.com/event/farmers-market-old-town-eureka/2026-08-18/
LOCATION:Old Town Gazebo\, 2nd & F St\, Old Town Eureka\, Eureka\, 95501\, United States
ATTACH;FMTTYPE=image/jpeg:https://www.visiteureka.com/wp-content/uploads/2025/06/arcata-farmers-market-20-98ade6215056a36_98ade7ed-5056-a36a-09bb95de4d2f1dd7.jpg
END:VEVENT
BEGIN:VEVENT
DTSTART;TZID=UTC:20260825T100000
DTEND;TZID=UTC:20261215T130000
DTSTAMP:20260420T055425
CREATED:20250624T115606Z
LAST-MODIFIED:20260305T112516Z
UID:10000141-1787652000-1797339600@www.visiteureka.com
SUMMARY:Farmer’s Market – Old Town Eureka
DESCRIPTION:Grab lunch and shop for local produce and handmade goods in the heart of our historic district. \nFrequency : Weekly \nTime : Tuesdays 10 AM–1 PM
URL:https://www.visiteureka.com/event/farmers-market-old-town-eureka/2026-08-25/
LOCATION:Old Town Gazebo\, 2nd & F St\, Old Town Eureka\, Eureka\, 95501\, United States
ATTACH;FMTTYPE=image/jpeg:https://www.visiteureka.com/wp-content/uploads/2025/06/arcata-farmers-market-20-98ade6215056a36_98ade7ed-5056-a36a-09bb95de4d2f1dd7.jpg
END:VEVENT
BEGIN:VEVENT
DTSTART;TZID=UTC:20260901T100000
DTEND;TZID=UTC:20261222T130000
DTSTAMP:20260420T055425
CREATED:20250624T115606Z
LAST-MODIFIED:20260305T112516Z
UID:10000142-1788256800-1797944400@www.visiteureka.com
SUMMARY:Farmer’s Market – Old Town Eureka
DESCRIPTION:Grab lunch and shop for local produce and handmade goods in the heart of our historic district. \nFrequency : Weekly \nTime : Tuesdays 10 AM–1 PM
URL:https://www.visiteureka.com/event/farmers-market-old-town-eureka/2026-09-01/
LOCATION:Old Town Gazebo\, 2nd & F St\, Old Town Eureka\, Eureka\, 95501\, United States
ATTACH;FMTTYPE=image/jpeg:https://www.visiteureka.com/wp-content/uploads/2025/06/arcata-farmers-market-20-98ade6215056a36_98ade7ed-5056-a36a-09bb95de4d2f1dd7.jpg
END:VEVENT
BEGIN:VEVENT
DTSTART;TZID=UTC:20260908T100000
DTEND;TZID=UTC:20261229T130000
DTSTAMP:20260420T055425
CREATED:20250624T115606Z
LAST-MODIFIED:20260305T112516Z
UID:10000143-1788861600-1798549200@www.visiteureka.com
SUMMARY:Farmer’s Market – Old Town Eureka
DESCRIPTION:Grab lunch and shop for local produce and handmade goods in the heart of our historic district. \nFrequency : Weekly \nTime : Tuesdays 10 AM–1 PM
URL:https://www.visiteureka.com/event/farmers-market-old-town-eureka/2026-09-08/
LOCATION:Old Town Gazebo\, 2nd & F St\, Old Town Eureka\, Eureka\, 95501\, United States
ATTACH;FMTTYPE=image/jpeg:https://www.visiteureka.com/wp-content/uploads/2025/06/arcata-farmers-market-20-98ade6215056a36_98ade7ed-5056-a36a-09bb95de4d2f1dd7.jpg
END:VEVENT
BEGIN:VEVENT
DTSTART;TZID=UTC:20260915T100000
DTEND;TZID=UTC:20270105T130000
DTSTAMP:20260420T055425
CREATED:20250624T115606Z
LAST-MODIFIED:20260305T112516Z
UID:10000144-1789466400-1799154000@www.visiteureka.com
SUMMARY:Farmer’s Market – Old Town Eureka
DESCRIPTION:Grab lunch and shop for local produce and handmade goods in the heart of our historic district. \nFrequency : Weekly \nTime : Tuesdays 10 AM–1 PM
URL:https://www.visiteureka.com/event/farmers-market-old-town-eureka/2026-09-15/
LOCATION:Old Town Gazebo\, 2nd & F St\, Old Town Eureka\, Eureka\, 95501\, United States
ATTACH;FMTTYPE=image/jpeg:https://www.visiteureka.com/wp-content/uploads/2025/06/arcata-farmers-market-20-98ade6215056a36_98ade7ed-5056-a36a-09bb95de4d2f1dd7.jpg
END:VEVENT
BEGIN:VEVENT
DTSTART;TZID=UTC:20260922T100000
DTEND;TZID=UTC:20270112T130000
DTSTAMP:20260420T055425
CREATED:20250624T115606Z
LAST-MODIFIED:20260305T112516Z
UID:10000145-1790071200-1799758800@www.visiteureka.com
SUMMARY:Farmer’s Market – Old Town Eureka
DESCRIPTION:Grab lunch and shop for local produce and handmade goods in the heart of our historic district. \nFrequency : Weekly \nTime : Tuesdays 10 AM–1 PM
URL:https://www.visiteureka.com/event/farmers-market-old-town-eureka/2026-09-22/
LOCATION:Old Town Gazebo\, 2nd & F St\, Old Town Eureka\, Eureka\, 95501\, United States
ATTACH;FMTTYPE=image/jpeg:https://www.visiteureka.com/wp-content/uploads/2025/06/arcata-farmers-market-20-98ade6215056a36_98ade7ed-5056-a36a-09bb95de4d2f1dd7.jpg
END:VEVENT
BEGIN:VEVENT
DTSTART;TZID=UTC:20260929T100000
DTEND;TZID=UTC:20270119T130000
DTSTAMP:20260420T055425
CREATED:20250624T115606Z
LAST-MODIFIED:20260305T112516Z
UID:10000146-1790676000-1800363600@www.visiteureka.com
SUMMARY:Farmer’s Market – Old Town Eureka
DESCRIPTION:Grab lunch and shop for local produce and handmade goods in the heart of our historic district. \nFrequency : Weekly \nTime : Tuesdays 10 AM–1 PM
URL:https://www.visiteureka.com/event/farmers-market-old-town-eureka/2026-09-29/
LOCATION:Old Town Gazebo\, 2nd & F St\, Old Town Eureka\, Eureka\, 95501\, United States
ATTACH;FMTTYPE=image/jpeg:https://www.visiteureka.com/wp-content/uploads/2025/06/arcata-farmers-market-20-98ade6215056a36_98ade7ed-5056-a36a-09bb95de4d2f1dd7.jpg
END:VEVENT
BEGIN:VEVENT
DTSTART;TZID=UTC:20261006T100000
DTEND;TZID=UTC:20270126T130000
DTSTAMP:20260420T055425
CREATED:20250624T115606Z
LAST-MODIFIED:20260305T112516Z
UID:10000147-1791280800-1800968400@www.visiteureka.com
SUMMARY:Farmer’s Market – Old Town Eureka
DESCRIPTION:Grab lunch and shop for local produce and handmade goods in the heart of our historic district. \nFrequency : Weekly \nTime : Tuesdays 10 AM–1 PM
URL:https://www.visiteureka.com/event/farmers-market-old-town-eureka/2026-10-06/
LOCATION:Old Town Gazebo\, 2nd & F St\, Old Town Eureka\, Eureka\, 95501\, United States
ATTACH;FMTTYPE=image/jpeg:https://www.visiteureka.com/wp-content/uploads/2025/06/arcata-farmers-market-20-98ade6215056a36_98ade7ed-5056-a36a-09bb95de4d2f1dd7.jpg
END:VEVENT
BEGIN:VEVENT
DTSTART;TZID=UTC:20261013T100000
DTEND;TZID=UTC:20270202T130000
DTSTAMP:20260420T055425
CREATED:20250624T115606Z
LAST-MODIFIED:20260305T112516Z
UID:10000148-1791885600-1801573200@www.visiteureka.com
SUMMARY:Farmer’s Market – Old Town Eureka
DESCRIPTION:Grab lunch and shop for local produce and handmade goods in the heart of our historic district. \nFrequency : Weekly \nTime : Tuesdays 10 AM–1 PM
URL:https://www.visiteureka.com/event/farmers-market-old-town-eureka/2026-10-13/
LOCATION:Old Town Gazebo\, 2nd & F St\, Old Town Eureka\, Eureka\, 95501\, United States
ATTACH;FMTTYPE=image/jpeg:https://www.visiteureka.com/wp-content/uploads/2025/06/arcata-farmers-market-20-98ade6215056a36_98ade7ed-5056-a36a-09bb95de4d2f1dd7.jpg
END:VEVENT
BEGIN:VEVENT
DTSTART;TZID=UTC:20261020T100000
DTEND;TZID=UTC:20270209T130000
DTSTAMP:20260420T055425
CREATED:20250624T115606Z
LAST-MODIFIED:20260305T112516Z
UID:10000149-1792490400-1802178000@www.visiteureka.com
SUMMARY:Farmer’s Market – Old Town Eureka
DESCRIPTION:Grab lunch and shop for local produce and handmade goods in the heart of our historic district. \nFrequency : Weekly \nTime : Tuesdays 10 AM–1 PM
URL:https://www.visiteureka.com/event/farmers-market-old-town-eureka/2026-10-20/
LOCATION:Old Town Gazebo\, 2nd & F St\, Old Town Eureka\, Eureka\, 95501\, United States
ATTACH;FMTTYPE=image/jpeg:https://www.visiteureka.com/wp-content/uploads/2025/06/arcata-farmers-market-20-98ade6215056a36_98ade7ed-5056-a36a-09bb95de4d2f1dd7.jpg
END:VEVENT
BEGIN:VEVENT
DTSTART;TZID=UTC:20261027T100000
DTEND;TZID=UTC:20270216T130000
DTSTAMP:20260420T055425
CREATED:20250624T115606Z
LAST-MODIFIED:20260305T112516Z
UID:10000150-1793095200-1802782800@www.visiteureka.com
SUMMARY:Farmer’s Market – Old Town Eureka
DESCRIPTION:Grab lunch and shop for local produce and handmade goods in the heart of our historic district. \nFrequency : Weekly \nTime : Tuesdays 10 AM–1 PM
URL:https://www.visiteureka.com/event/farmers-market-old-town-eureka/2026-10-27/
LOCATION:Old Town Gazebo\, 2nd & F St\, Old Town Eureka\, Eureka\, 95501\, United States
ATTACH;FMTTYPE=image/jpeg:https://www.visiteureka.com/wp-content/uploads/2025/06/arcata-farmers-market-20-98ade6215056a36_98ade7ed-5056-a36a-09bb95de4d2f1dd7.jpg
END:VEVENT
END:VCALENDAR