BEGIN:VCALENDAR
VERSION:2.0
PRODID:-//Visit Eureka - ECPv6.15.19//NONSGML v1.0//EN
CALSCALE:GREGORIAN
METHOD:PUBLISH
X-WR-CALNAME:Visit Eureka
X-ORIGINAL-URL:https://www.visiteureka.com
X-WR-CALDESC:Events for Visit Eureka
REFRESH-INTERVAL;VALUE=DURATION:PT1H
X-Robots-Tag:noindex
X-PUBLISHED-TTL:PT1H
BEGIN:VTIMEZONE
TZID:UTC
BEGIN:STANDARD
TZOFFSETFROM:+0000
TZOFFSETTO:+0000
TZNAME:UTC
DTSTART:20240101T000000
END:STANDARD
END:VTIMEZONE
BEGIN:VEVENT
DTSTART;TZID=UTC:20251206T130000
DTEND;TZID=UTC:20251206T134500
DTSTAMP:20260420T151439
CREATED:20251118T074204Z
LAST-MODIFIED:20251205T114100Z
UID:10000016-1765026000-1765028700@www.visiteureka.com
SUMMARY:TubaChristmas
DESCRIPTION:Tubas and euphoniums join together for a Christmas sing-along for the 37th annual TubaChristmas
URL:https://www.visiteureka.com/event/tubachristmas/
LOCATION:Old Town Gazebo\, 2nd & F St\, Old Town Eureka\, Eureka\, 95501\, United States
ATTACH;FMTTYPE=image/jpeg:https://www.visiteureka.com/wp-content/uploads/2025/11/TubaXmas.120316.ML-6989-Frederick-Tempas.jpg
END:VEVENT
BEGIN:VEVENT
DTSTART;TZID=UTC:20251129T110000
DTEND;TZID=UTC:20251129T120000
DTSTAMP:20260420T151439
CREATED:20251118T120211Z
LAST-MODIFIED:20251118T120542Z
UID:10000022-1764414000-1764417600@www.visiteureka.com
SUMMARY:Snowball Drop
DESCRIPTION:This free family event is happening at 11 AM on Saturday\, November 29 at the Gazebo in Old Town\, Eureka. \nSupport Small Business Saturday\, and get ready for a man-made blizzard with hundreds of snowballs (ping pong balls) gently floating down to eager shoppers! Each ball represents a special discount\, gift\, or giveaway pre-determined by a participating business. \nCatch a snowball and visit the corresponding business to redeem your prize on Saturday\, November 29th only! \n—————\nPrizes for kids and adults! \n“Gumballs” are colored ping-pong balls and each one can be redeemed for a special trinket or treat. Limit one “gumball” per child. \n“Snowballs” are white ping-pong balls and each one can be redeemed for a special prize from a local business. Limit one snowball per adult.\n_________\nJoin the fun\, support local businesses\, and make it a memorable Small Business Saturday!
URL:https://www.visiteureka.com/event/snowball-drop/
LOCATION:Old Town Gazebo\, 2nd & F St\, Old Town Eureka\, Eureka\, 95501\, United States
CATEGORIES:Holiday Activity
ATTACH;FMTTYPE=image/png:https://www.visiteureka.com/wp-content/uploads/2025/11/Snowball-Drop-550-x-300-px-Eureka-Main-Street.png
END:VEVENT
BEGIN:VEVENT
DTSTART;TZID=UTC:20251128T140000
DTEND;TZID=UTC:20251128T160000
DTSTAMP:20260420T151439
CREATED:20251118T115900Z
LAST-MODIFIED:20251118T115913Z
UID:10000021-1764338400-1764345600@www.visiteureka.com
SUMMARY:Santa's Arrival in Old Town
DESCRIPTION:Santa’s coming to town on a Humboldt Bay Fire Truck! Meet at the Gazebo at 2 PM for Santa’s grand entrance\, followed by festive fun with his merry elves. Enjoy face painting\, kids’ crafts\, balloon animals\, and a chance to share your holiday wishes with Santa himself! Bring the whole family and your camera for a magical afternoon in Old Town!
URL:https://www.visiteureka.com/event/santas-arrival-in-old-town/
LOCATION:Old Town Gazebo\, 2nd & F St\, Old Town Eureka\, Eureka\, 95501\, United States
CATEGORIES:Holiday Activity
ATTACH;FMTTYPE=image/png:https://www.visiteureka.com/wp-content/uploads/2025/11/Santa-550-x-300-px-Eureka-Main-Street.png
END:VEVENT
END:VCALENDAR