BEGIN:VCALENDAR
VERSION:2.0
PRODID:-//Visit Eureka - ECPv6.15.19//NONSGML v1.0//EN
CALSCALE:GREGORIAN
METHOD:PUBLISH
X-WR-CALNAME:Visit Eureka
X-ORIGINAL-URL:https://www.visiteureka.com
X-WR-CALDESC:Events for Visit Eureka
REFRESH-INTERVAL;VALUE=DURATION:PT1H
X-Robots-Tag:noindex
X-PUBLISHED-TTL:PT1H
BEGIN:VTIMEZONE
TZID:UTC
BEGIN:STANDARD
TZOFFSETFROM:+0000
TZOFFSETTO:+0000
TZNAME:UTC
DTSTART:20250101T000000
END:STANDARD
END:VTIMEZONE
BEGIN:VEVENT
DTSTART;VALUE=DATE:20260829
DTEND;VALUE=DATE:20260831
DTSTAMP:20260420T154219
CREATED:20250624T122254Z
LAST-MODIFIED:20260305T115543Z
UID:10000011-1787961600-1788134399@www.visiteureka.com
SUMMARY:Cannifest
DESCRIPTION:A community festival celebrating our local culture with music\, food\, and plenty of distinct Humboldt vibes. \nFrequency : Annually \nTime : TBA
URL:https://www.visiteureka.com/event/cannifest/2026-08-29/
LOCATION:Halvorsen Waterfront Park\, Eureka\, CA\, 95501\, United States
ATTACH;FMTTYPE=image/jpeg:https://www.visiteureka.com/wp-content/uploads/2025/06/503679576_18047347640618054_4993785230311522761_n.jpg
END:VEVENT
END:VCALENDAR