BEGIN:VCALENDAR
VERSION:2.0
PRODID:-//Visit Eureka - ECPv6.15.19//NONSGML v1.0//EN
CALSCALE:GREGORIAN
METHOD:PUBLISH
X-WR-CALNAME:Visit Eureka
X-ORIGINAL-URL:https://www.visiteureka.com
X-WR-CALDESC:Events for Visit Eureka
REFRESH-INTERVAL;VALUE=DURATION:PT1H
X-Robots-Tag:noindex
X-PUBLISHED-TTL:PT1H
BEGIN:VTIMEZONE
TZID:UTC
BEGIN:STANDARD
TZOFFSETFROM:+0000
TZOFFSETTO:+0000
TZNAME:UTC
DTSTART:20250101T000000
END:STANDARD
END:VTIMEZONE
BEGIN:VEVENT
DTSTART;VALUE=DATE:20260704
DTEND;VALUE=DATE:20260705
DTSTAMP:20260420T064155
CREATED:20250624T121018Z
LAST-MODIFIED:20260305T115443Z
UID:10000008-1783123200-1783209599@www.visiteureka.com
SUMMARY:Fourth of July Festival Eureka
DESCRIPTION:A family-friendly celebration with over 100 vendors\, live music\, and a fireworks display over the water. \nFrequency : Annually \nTime : All day; fireworks at 10 PM
URL:https://www.visiteureka.com/event/fourth-of-july-festival-eureka/2026-07-04/
LOCATION:Old Town & Waterfront\, Start at 2nd & E Streets\, Eureka\, CA\, 95501\, United States
ATTACH;FMTTYPE=image/jpeg:https://www.visiteureka.com/wp-content/uploads/2025/06/Capture_2F03E489-B4C4-C8F1-5DF4783C07E6BC9E_2f0427a0-0f25-c0f6-aff2c313def4fe71.jpg
END:VEVENT
END:VCALENDAR