BEGIN:VCALENDAR
VERSION:2.0
PRODID:-//Visit Eureka - ECPv6.15.19//NONSGML v1.0//EN
CALSCALE:GREGORIAN
METHOD:PUBLISH
X-WR-CALNAME:Visit Eureka
X-ORIGINAL-URL:https://www.visiteureka.com
X-WR-CALDESC:Events for Visit Eureka
REFRESH-INTERVAL;VALUE=DURATION:PT1H
X-Robots-Tag:noindex
X-PUBLISHED-TTL:PT1H
BEGIN:VTIMEZONE
TZID:UTC
BEGIN:STANDARD
TZOFFSETFROM:+0000
TZOFFSETTO:+0000
TZNAME:UTC
DTSTART:20250101T000000
END:STANDARD
END:VTIMEZONE
BEGIN:VEVENT
DTSTART;TZID=UTC:20260613T090000
DTEND;TZID=UTC:20261024T130000
DTSTAMP:20260420T045215
CREATED:20250624T120333Z
LAST-MODIFIED:20260305T112321Z
UID:10000006-1781341200-1792846800@www.visiteureka.com
SUMMARY:Humboldt Dockside Market
DESCRIPTION:A waterfront market showcasing fresh seafood\, prepared foods\, and local crafts right by the bay. \nFrequency : Biweekly \nTime : Saturdays 9 AM–1 PM
URL:https://www.visiteureka.com/event/humboldt-dockside-market/2026-06-13/
LOCATION:Madaket Plaza\, Waterfront & C St\, Eureka\, CA\, 95501\, United States
ATTACH;FMTTYPE=image/jpeg:https://www.visiteureka.com/wp-content/uploads/2025/06/dockside4_orig.jpg
END:VEVENT
BEGIN:VEVENT
DTSTART;TZID=UTC:20260627T090000
DTEND;TZID=UTC:20261107T130000
DTSTAMP:20260420T045215
CREATED:20250624T120333Z
LAST-MODIFIED:20260305T112321Z
UID:10000126-1782550800-1794056400@www.visiteureka.com
SUMMARY:Humboldt Dockside Market
DESCRIPTION:A waterfront market showcasing fresh seafood\, prepared foods\, and local crafts right by the bay. \nFrequency : Biweekly \nTime : Saturdays 9 AM–1 PM
URL:https://www.visiteureka.com/event/humboldt-dockside-market/2026-06-27/
LOCATION:Madaket Plaza\, Waterfront & C St\, Eureka\, CA\, 95501\, United States
ATTACH;FMTTYPE=image/jpeg:https://www.visiteureka.com/wp-content/uploads/2025/06/dockside4_orig.jpg
END:VEVENT
BEGIN:VEVENT
DTSTART;TZID=UTC:20260711T090000
DTEND;TZID=UTC:20261121T130000
DTSTAMP:20260420T045215
CREATED:20250624T120333Z
LAST-MODIFIED:20260305T112321Z
UID:10000127-1783760400-1795266000@www.visiteureka.com
SUMMARY:Humboldt Dockside Market
DESCRIPTION:A waterfront market showcasing fresh seafood\, prepared foods\, and local crafts right by the bay. \nFrequency : Biweekly \nTime : Saturdays 9 AM–1 PM
URL:https://www.visiteureka.com/event/humboldt-dockside-market/2026-07-11/
LOCATION:Madaket Plaza\, Waterfront & C St\, Eureka\, CA\, 95501\, United States
ATTACH;FMTTYPE=image/jpeg:https://www.visiteureka.com/wp-content/uploads/2025/06/dockside4_orig.jpg
END:VEVENT
BEGIN:VEVENT
DTSTART;TZID=UTC:20260725T090000
DTEND;TZID=UTC:20261205T130000
DTSTAMP:20260420T045215
CREATED:20250624T120333Z
LAST-MODIFIED:20260305T112321Z
UID:10000128-1784970000-1796475600@www.visiteureka.com
SUMMARY:Humboldt Dockside Market
DESCRIPTION:A waterfront market showcasing fresh seafood\, prepared foods\, and local crafts right by the bay. \nFrequency : Biweekly \nTime : Saturdays 9 AM–1 PM
URL:https://www.visiteureka.com/event/humboldt-dockside-market/2026-07-25/
LOCATION:Madaket Plaza\, Waterfront & C St\, Eureka\, CA\, 95501\, United States
ATTACH;FMTTYPE=image/jpeg:https://www.visiteureka.com/wp-content/uploads/2025/06/dockside4_orig.jpg
END:VEVENT
BEGIN:VEVENT
DTSTART;TZID=UTC:20260808T090000
DTEND;TZID=UTC:20261219T130000
DTSTAMP:20260420T045215
CREATED:20250624T120333Z
LAST-MODIFIED:20260305T112321Z
UID:10000129-1786179600-1797685200@www.visiteureka.com
SUMMARY:Humboldt Dockside Market
DESCRIPTION:A waterfront market showcasing fresh seafood\, prepared foods\, and local crafts right by the bay. \nFrequency : Biweekly \nTime : Saturdays 9 AM–1 PM
URL:https://www.visiteureka.com/event/humboldt-dockside-market/2026-08-08/
LOCATION:Madaket Plaza\, Waterfront & C St\, Eureka\, CA\, 95501\, United States
ATTACH;FMTTYPE=image/jpeg:https://www.visiteureka.com/wp-content/uploads/2025/06/dockside4_orig.jpg
END:VEVENT
BEGIN:VEVENT
DTSTART;TZID=UTC:20260822T090000
DTEND;TZID=UTC:20270102T130000
DTSTAMP:20260420T045215
CREATED:20250624T120333Z
LAST-MODIFIED:20260305T112321Z
UID:10000130-1787389200-1798894800@www.visiteureka.com
SUMMARY:Humboldt Dockside Market
DESCRIPTION:A waterfront market showcasing fresh seafood\, prepared foods\, and local crafts right by the bay. \nFrequency : Biweekly \nTime : Saturdays 9 AM–1 PM
URL:https://www.visiteureka.com/event/humboldt-dockside-market/2026-08-22/
LOCATION:Madaket Plaza\, Waterfront & C St\, Eureka\, CA\, 95501\, United States
ATTACH;FMTTYPE=image/jpeg:https://www.visiteureka.com/wp-content/uploads/2025/06/dockside4_orig.jpg
END:VEVENT
BEGIN:VEVENT
DTSTART;TZID=UTC:20260905T090000
DTEND;TZID=UTC:20270116T130000
DTSTAMP:20260420T045215
CREATED:20250624T120333Z
LAST-MODIFIED:20260305T112321Z
UID:10000131-1788598800-1800104400@www.visiteureka.com
SUMMARY:Humboldt Dockside Market
DESCRIPTION:A waterfront market showcasing fresh seafood\, prepared foods\, and local crafts right by the bay. \nFrequency : Biweekly \nTime : Saturdays 9 AM–1 PM
URL:https://www.visiteureka.com/event/humboldt-dockside-market/2026-09-05/
LOCATION:Madaket Plaza\, Waterfront & C St\, Eureka\, CA\, 95501\, United States
ATTACH;FMTTYPE=image/jpeg:https://www.visiteureka.com/wp-content/uploads/2025/06/dockside4_orig.jpg
END:VEVENT
BEGIN:VEVENT
DTSTART;TZID=UTC:20260919T090000
DTEND;TZID=UTC:20270130T130000
DTSTAMP:20260420T045215
CREATED:20250624T120333Z
LAST-MODIFIED:20260305T112321Z
UID:10000132-1789808400-1801314000@www.visiteureka.com
SUMMARY:Humboldt Dockside Market
DESCRIPTION:A waterfront market showcasing fresh seafood\, prepared foods\, and local crafts right by the bay. \nFrequency : Biweekly \nTime : Saturdays 9 AM–1 PM
URL:https://www.visiteureka.com/event/humboldt-dockside-market/2026-09-19/
LOCATION:Madaket Plaza\, Waterfront & C St\, Eureka\, CA\, 95501\, United States
ATTACH;FMTTYPE=image/jpeg:https://www.visiteureka.com/wp-content/uploads/2025/06/dockside4_orig.jpg
END:VEVENT
BEGIN:VEVENT
DTSTART;TZID=UTC:20261003T090000
DTEND;TZID=UTC:20270213T130000
DTSTAMP:20260420T045215
CREATED:20250624T120333Z
LAST-MODIFIED:20260305T112321Z
UID:10000133-1791018000-1802523600@www.visiteureka.com
SUMMARY:Humboldt Dockside Market
DESCRIPTION:A waterfront market showcasing fresh seafood\, prepared foods\, and local crafts right by the bay. \nFrequency : Biweekly \nTime : Saturdays 9 AM–1 PM
URL:https://www.visiteureka.com/event/humboldt-dockside-market/2026-10-03/
LOCATION:Madaket Plaza\, Waterfront & C St\, Eureka\, CA\, 95501\, United States
ATTACH;FMTTYPE=image/jpeg:https://www.visiteureka.com/wp-content/uploads/2025/06/dockside4_orig.jpg
END:VEVENT
BEGIN:VEVENT
DTSTART;TZID=UTC:20261017T090000
DTEND;TZID=UTC:20270227T130000
DTSTAMP:20260420T045215
CREATED:20250624T120333Z
LAST-MODIFIED:20260305T112321Z
UID:10000134-1792227600-1803733200@www.visiteureka.com
SUMMARY:Humboldt Dockside Market
DESCRIPTION:A waterfront market showcasing fresh seafood\, prepared foods\, and local crafts right by the bay. \nFrequency : Biweekly \nTime : Saturdays 9 AM–1 PM
URL:https://www.visiteureka.com/event/humboldt-dockside-market/2026-10-17/
LOCATION:Madaket Plaza\, Waterfront & C St\, Eureka\, CA\, 95501\, United States
ATTACH;FMTTYPE=image/jpeg:https://www.visiteureka.com/wp-content/uploads/2025/06/dockside4_orig.jpg
END:VEVENT
END:VCALENDAR