BEGIN:VCALENDAR
VERSION:2.0
PRODID:-//Visit Eureka - ECPv6.15.19//NONSGML v1.0//EN
CALSCALE:GREGORIAN
METHOD:PUBLISH
X-WR-CALNAME:Visit Eureka
X-ORIGINAL-URL:https://www.visiteureka.com
X-WR-CALDESC:Events for Visit Eureka
REFRESH-INTERVAL;VALUE=DURATION:PT1H
X-Robots-Tag:noindex
X-PUBLISHED-TTL:PT1H
BEGIN:VTIMEZONE
TZID:UTC
BEGIN:STANDARD
TZOFFSETFROM:+0000
TZOFFSETTO:+0000
TZNAME:UTC
DTSTART:20240101T000000
END:STANDARD
END:VTIMEZONE
BEGIN:VEVENT
DTSTART;TZID=UTC:20251114T090000
DTEND;TZID=UTC:20251231T090000
DTSTAMP:20260423T204521
CREATED:20251119T071739Z
LAST-MODIFIED:20251203T122636Z
UID:10000037-1763110800-1767171600@www.visiteureka.com
SUMMARY:Carl Johnson Co Christmas Shop
DESCRIPTION:Christmas Shop
URL:https://www.visiteureka.com/event/carl-johnson-co-christmas-shop/
LOCATION:Carl Johnson Company\, 3950 Jacobs Ave\, Eureka\, CA\, 95501\, United States
CATEGORIES:Business Event or Sale
ATTACH;FMTTYPE=image/png:https://www.visiteureka.com/wp-content/uploads/2025/11/Carl-Johnson-Co-Christmas-Shop.png
END:VEVENT
BEGIN:VEVENT
DTSTART;TZID=UTC:20251114T090000
DTEND;TZID=UTC:20251212T170000
DTSTAMP:20260423T204521
CREATED:20251118T073549Z
LAST-MODIFIED:20251118T073840Z
UID:10000015-1763110800-1765558800@www.visiteureka.com
SUMMARY:Holiday Shopping Spree Drawing
DESCRIPTION:Get into the holiday spirit and win big! From November 14 through December 12\, shop at participating Downtown and Old Town Eureka businesses for your chance to enter the Holiday Shopping Spree Drawing. Here’s how it works: \nFor every purchase of $10 or more at a participating business\, you’ll receive an entry form. Simply fill it out and drop it off at any participating location to enter for a chance to win gift cards valued at $25 or more from local merchants! \nKey Dates:\nEntry period: November 14 – December 12\nWinners will be drawn on December 15\, with notifications going out by 5:00 p.m. on December 16. \nParticipating Businesses: \nBelle Starr Clothing\, 405 2nd Street \nBlue Ox Boutique\, 515 2nd Street \nThe Bodega\, 215 F Street \nBy Nieves :: Handmade Natural Body Care\, 308 2nd Street \nEureka Books\, 426 2nd Street \nGame On Laser Tag and More\, 411 1st Street \nGood Relations\, 329 2nd Street \nThe Greene Lily\, 516 2nd Street \nHumboldt Herbals\, 300 2nd Street \nMany Hands Gallery\, 438 2nd Street \nPhosphene\, 426 3rd Street \nRosebud Home Goods\, 213 F Street \nSisters Clothing Collective\, 328 2nd Street \nTulip Perfume Co.\, 128 E Street \nShop local\, support the community\, and good luck!
URL:https://www.visiteureka.com/event/holiday-shopping-spree-drawing/
LOCATION:Downtown & Old Town Businesses\, Eureka\, CA\, CA\, 95501\, United States
CATEGORIES:Business Event or Sale
ATTACH;FMTTYPE=image/png:https://www.visiteureka.com/wp-content/uploads/2025/11/Holiday-Shopping-Spree-sm-1-Eureka-Main-Street.png
END:VEVENT
BEGIN:VEVENT
DTSTART;TZID=UTC:20251101T120000
DTEND;TZID=UTC:20251225T190000
DTSTAMP:20260423T204521
CREATED:20251205T121632Z
LAST-MODIFIED:20251205T122507Z
UID:10000079-1761998400-1766689200@www.visiteureka.com
SUMMARY:Solstice Holiday Pop-Up
DESCRIPTION:Solstice Holiday Pop-Up Shop is an annual event featuring a curated selection of local goods and gifts from near and far. \nShop hours are 12:00-7:00 Thursday through Saturday and 12:00-5:00 on Sundays!  \nFree pick-up is also available for online orders.
URL:https://www.visiteureka.com/event/solstice-holiday-pop-up/
LOCATION:524 5th Street\, Eureka\, CA\, 95501\, United States
CATEGORIES:Holiday Activity
ATTACH;FMTTYPE=image/png:https://www.visiteureka.com/wp-content/uploads/2025/12/Visit-Eureka-Solstice-Collective.png
END:VEVENT
BEGIN:VEVENT
DTSTART;TZID=UTC:20250823T083000
DTEND;TZID=UTC:20250823T170000
DTSTAMP:20260423T204521
CREATED:20250725T174202Z
LAST-MODIFIED:20250725T174202Z
UID:10000014-1755937800-1755968400@www.visiteureka.com
SUMMARY:5th Annual Fore! The Community Golf Classic
DESCRIPTION:The C.A.P.E. Fund and The Betty Kwan Chinn Homeless Foundation excited to host the 5𝒕𝒉 𝘼𝙣𝙣𝙪𝙖𝙡 𝙁𝙤𝙧𝙚! 𝙏𝙝𝙚 𝘾𝙤𝙢𝙢𝙪𝙣𝙞𝙩𝙮 𝙂𝙤𝙡𝙛 𝘾𝙡𝙖𝙨𝙨𝙞𝙘 Scramble Tournament!\n\n Saturday\, August 23rd\, 2025 Shotgun start at 8:30am The Eureka Municipal Golf CourseFirst place takes $1\,500!!$500 per foursome\n\nFoursome registration includes:Entry FeeGolf cartRange BallsGift BagLunch\n\n Call the Pro Shop at 707-443-4808 to register your team today!\n\nAll proceeds support the C.A.P.E. Fund & The Betty Kwan Chinn Homeless Foundation\, benefiting our community members in need by providing access to housing & quality of life programming. \nSee less\n\n\n\nSports
URL:https://www.visiteureka.com/event/5th-annual-fore-the-community-golf-classic/
LOCATION:Eureka Golf Course\, 4750 Fairway Drive\, Eureka\, CA\, United States
ATTACH;FMTTYPE=image/png:https://www.visiteureka.com/wp-content/uploads/2025/07/Eureka-Municipal-Golf-Course.png
END:VEVENT
BEGIN:VEVENT
DTSTART;TZID=UTC:20250720T100000
DTEND;TZID=UTC:20250720T160000
DTSTAMP:20260423T204521
CREATED:20250624T121655Z
LAST-MODIFIED:20250624T121655Z
UID:10000009-1753005600-1753027200@www.visiteureka.com
SUMMARY:Old Town Vintage Market
DESCRIPTION:One-day street market with antiques\, vintage goods\, crafts\, and local food. \nFrequency : Annually
URL:https://www.visiteureka.com/event/old-town-vintage-market/
LOCATION:G St between 2nd & 3rd\, Eureka\, CA\, 95501\, United States
ATTACH;FMTTYPE=image/webp:https://www.visiteureka.com/wp-content/uploads/2025/06/unnamed.webp
END:VEVENT
BEGIN:VEVENT
DTSTART;VALUE=DATE:20250628
DTEND;VALUE=DATE:20250629
DTSTAMP:20260423T204521
CREATED:20250624T120726Z
LAST-MODIFIED:20250624T120748Z
UID:10000007-1751068800-1751155199@www.visiteureka.com
SUMMARY:Grand Opening – Humboldt Bay Trail
DESCRIPTION:Grand opening celebration of the new Humboldt Bay Trail with rides and music. \nFrequency : Annually \nTime : TBA
URL:https://www.visiteureka.com/event/grand-opening-humboldt-bay-trail/
LOCATION:Humboldt Bay Trail\, Eureka\, CA\, 95501\, United States
ATTACH;FMTTYPE=image/jpeg:https://www.visiteureka.com/wp-content/uploads/2025/06/HumboldtBayTrailCelebration.jpg
END:VEVENT
END:VCALENDAR