BEGIN:VCALENDAR
VERSION:2.0
PRODID:-//Visit Eureka - ECPv6.15.19//NONSGML v1.0//EN
CALSCALE:GREGORIAN
METHOD:PUBLISH
X-WR-CALNAME:Visit Eureka
X-ORIGINAL-URL:https://www.visiteureka.com
X-WR-CALDESC:Events for Visit Eureka
REFRESH-INTERVAL;VALUE=DURATION:PT1H
X-Robots-Tag:noindex
X-PUBLISHED-TTL:PT1H
BEGIN:VTIMEZONE
TZID:UTC
BEGIN:STANDARD
TZOFFSETFROM:+0000
TZOFFSETTO:+0000
TZNAME:UTC
DTSTART:20290101T000000
END:STANDARD
END:VTIMEZONE
BEGIN:VEVENT
DTSTART;TZID=UTC:20300618T000000
DTEND;TZID=UTC:20300622T233000
DTSTAMP:20260423T203924
CREATED:20260415T065001Z
LAST-MODIFIED:20260415T065545Z
UID:10000181-1907971200-1908401400@www.visiteureka.com
SUMMARY:Juneteenth Cultural Festival
DESCRIPTION:A multi-day celebration of emancipation through culture\, education\, art\, and community connection. Presented by Black Humboldt and the Eureka Chapter of the NAACP\, the festival spans multiple venues with a speaker series\, live music\, line dancing\, a vendor village\, kids’ zone\, and the main Day Festival at Halvorsen Park. \nFrequency :  Annually \nTime : Varies \nVanues : Multiple Locations (Eureka\, Arcata\, Blue Lake)
URL:https://www.visiteureka.com/event/juneteenth-cultural-festival/2030-06-18/
LOCATION:Arcata\, Arcata\, CA\, 95521\, United States
ATTACH;FMTTYPE=image/jpeg:https://www.visiteureka.com/wp-content/uploads/2026/04/Juneteenth-155-1.jpg
END:VEVENT
END:VCALENDAR