BEGIN:VCALENDAR
VERSION:2.0
PRODID:-//Visit Eureka - ECPv6.15.19//NONSGML v1.0//EN
CALSCALE:GREGORIAN
METHOD:PUBLISH
X-WR-CALNAME:Visit Eureka
X-ORIGINAL-URL:https://www.visiteureka.com
X-WR-CALDESC:Events for Visit Eureka
REFRESH-INTERVAL;VALUE=DURATION:PT1H
X-Robots-Tag:noindex
X-PUBLISHED-TTL:PT1H
BEGIN:VTIMEZONE
TZID:UTC
BEGIN:STANDARD
TZOFFSETFROM:+0000
TZOFFSETTO:+0000
TZNAME:UTC
DTSTART:20240101T000000
END:STANDARD
END:VTIMEZONE
BEGIN:VEVENT
DTSTART;TZID=UTC:20251114T090000
DTEND;TZID=UTC:20251231T090000
DTSTAMP:20260420T055746
CREATED:20251119T071739Z
LAST-MODIFIED:20251203T122636Z
UID:10000037-1763110800-1767171600@www.visiteureka.com
SUMMARY:Carl Johnson Co Christmas Shop
DESCRIPTION:Christmas Shop
URL:https://www.visiteureka.com/event/carl-johnson-co-christmas-shop/
LOCATION:Carl Johnson Company\, 3950 Jacobs Ave\, Eureka\, CA\, 95501\, United States
CATEGORIES:Business Event or Sale
ATTACH;FMTTYPE=image/png:https://www.visiteureka.com/wp-content/uploads/2025/11/Carl-Johnson-Co-Christmas-Shop.png
END:VEVENT
BEGIN:VEVENT
DTSTART;TZID=UTC:20251117T090000
DTEND;TZID=UTC:20251231T090000
DTSTAMP:20260420T055746
CREATED:20251119T111035Z
LAST-MODIFIED:20251203T132552Z
UID:10000063-1763370000-1767171600@www.visiteureka.com
SUMMARY:HALF OFF GIFT CARDS
DESCRIPTION:Half Off Gift Cards Living Dollar Gift Cards \nBuy a gift card for half price\nSupport local family business\nLower your carbon footprint\nLook like a big spender to all your friends\nTreat yourself to a new statement piece or wardrobe !\n$25 for $50 gift card\n$50 for $100 gift card\n$250 for $500 gift card\n$500 for $1000 gift card at living doll vintage good for most items except Consignment & select goods
URL:https://www.visiteureka.com/event/half-off-gift-cards/
LOCATION:Living Doll Vintage\, 239 G St\, Eureka\, CA\, 95501\, United States
CATEGORIES:Business Event or Sale
ATTACH;FMTTYPE=image/jpeg:https://www.visiteureka.com/wp-content/uploads/2025/11/19C12B8D-7BC5-414E-8C84-EF060DBFEF52-Living-Doll-Vintage-Boutique-Gallery.jpeg
END:VEVENT
BEGIN:VEVENT
DTSTART;TZID=UTC:20251120T180000
DTEND;TZID=UTC:20251231T200000
DTSTAMP:20260420T055746
CREATED:20251119T081413Z
LAST-MODIFIED:20251119T081413Z
UID:10000053-1763661600-1767211200@www.visiteureka.com
SUMMARY:Holiday Paint Nights with Lavender Rose
DESCRIPTION:✨️Nov & Dec 2025 Paint Nights🌟 \n🎨 Thurs 11/20 @ 6pm – Vintage Truck at Lost Coast Brewery\n🎨 Fri 11/21 @ 6pm – Sun & Moon\n🎨 Tues 11/25 @ 6pm – Bears\n🎨 Thurs 12/18 @ 6pm – Snowy Mountain Scenic at Lost Coast Brewery\n🎨 Fri 12/19 @ 6pm – Cardinals\n🎨 Sun 12/21 @ 1pm – Rudolph ALL AGES\n🎨 Tues 12/23 @ 6pm – Northern Lights\n🎨 Sat 12/27 @ 1pm – Stormy Winter Scenic\n🎨 Wed 12/31 @ 6pm – I am Creator Magic✨️ \nAll classes are all ages welcome: Students are expected to be mature enough to stay on task\, in their seats\, and not run around the building. \n🌟 Online registration required.\nBook here: https://www.eventbrite.com/o/lavender-rose-paint-nights-68973477133 \nAll classes are held in Eureka at Lavender Rose Fabrics\, unless otherwise specified.\n*Please Note: Classes at Lost Coast Brewery are upstairs.\n🌟 Lavender Rose Paint Nights is located at 301 West Harris in Eureka\, California.\n707-844-0772
URL:https://www.visiteureka.com/event/holiday-paint-nights-with-lavender-rose/
LOCATION:Lavender Rose Fabrics\, 301 West Harris Street\, Eureka\, CA\, 95503\, United States
CATEGORIES:Holiday Activity
ATTACH;FMTTYPE=image/jpeg:https://www.visiteureka.com/wp-content/uploads/2025/11/inbound2293505120051085969-Diamond-Memories.jpg
END:VEVENT
BEGIN:VEVENT
DTSTART;TZID=UTC:20251128T110000
DTEND;TZID=UTC:20251231T170000
DTSTAMP:20260420T055746
CREATED:20251119T111422Z
LAST-MODIFIED:20251119T111422Z
UID:10000064-1764327600-1767200400@www.visiteureka.com
SUMMARY:STOREWIDE HOLIDAY SALE!
DESCRIPTION:10% to 25% off everything in the gallery! Give original\, one-of-a-kind gifts to your loved ones and support local artists! Featuring the artwork of several of the North Coast’s finest artists.
URL:https://www.visiteureka.com/event/storewide-holiday-sale/
LOCATION:425 Snug Alley\, Old Town Eureka (behind the gazebo)\, Eureka\, CA\, 95501\, United States
CATEGORIES:Business Event or Sale
ATTACH;FMTTYPE=image/jpeg:https://www.visiteureka.com/wp-content/uploads/2025/11/IMG_3833-Linda-Mitchell.jpeg
END:VEVENT
BEGIN:VEVENT
DTSTART;TZID=UTC:20251201T100000
DTEND;TZID=UTC:20251231T140000
DTSTAMP:20260420T055746
CREATED:20251205T123147Z
LAST-MODIFIED:20251205T123147Z
UID:10000083-1764583200-1767189600@www.visiteureka.com
SUMMARY:The Farmers' Market Gift Guide
DESCRIPTION:The annual Farmers’ Market Gift Guide helps make supporting local for your holiday shopping easier than ever! Browse a wide variety of specialty goods from local farmers\, producers\, and ranchers that are perfect for your holiday party or gifting.
URL:https://www.visiteureka.com/event/the-farmers-market-gift-guide/
LOCATION:Arcata Plaza Farmers’ Market\, G and\, 8th St\, Arcata\, CA\, 95521\, United States
CATEGORIES:Business Event or Sale
ATTACH;FMTTYPE=image/png:https://www.visiteureka.com/wp-content/uploads/2025/12/Capture.png
END:VEVENT
BEGIN:VEVENT
DTSTART;TZID=UTC:20251220T170000
DTEND;TZID=UTC:20260104T200000
DTSTAMP:20260420T055746
CREATED:20251119T071246Z
LAST-MODIFIED:20251203T123241Z
UID:10000036-1766250000-1767556800@www.visiteureka.com
SUMMARY:Zoo Lights at Sequoia Park Zoo presented by City of Eureka
DESCRIPTION:Zoo Lights is an illuminated\, directional pathway through the Zoo that features holiday displays\, a beautifully lit Redwood Sky Walk\, and Humboldt’s tallest living holiday tree. \nSequoia Park Zoo will be hosting Zoo Lights extended hours every night (except Christmas!) December 20\, 2025 through January 4\, 2026 from 5:00pm-8:00pm. \nAdmission is $5 per person. Tickets may be purchased at the Zoo ticket booth. Details at redwoodzoo.org \nPlease note: No Zoo Lights on Christmas Day\, December 25\, 2025
URL:https://www.visiteureka.com/event/zoo-lights-at-sequoia-park-zoo-presented-by-city-of-eureka/
LOCATION:Sequoia Park Zoo\, 3414 W Street\, Eureka\, CA\, 95501\, United States
CATEGORIES:Holiday Activity
ATTACH;FMTTYPE=image/png:https://www.visiteureka.com/wp-content/uploads/2025/11/Zoo-Lights-2025-EFTH-Kate-Baldwin.png
END:VEVENT
BEGIN:VEVENT
DTSTART;TZID=UTC:20260110T193000
DTEND;TZID=UTC:20260110T213000
DTSTAMP:20260420T055746
CREATED:20251118T141013Z
LAST-MODIFIED:20251203T123005Z
UID:10000028-1768073400-1768080600@www.visiteureka.com
SUMMARY:Eureka Chamber Music Series presents "Tears of Gold"
DESCRIPTION:Help bring the light into the new year by joining “Tears of Gold\,” an extraordinary voice and piano collaboration\, featuring mezzo-soprano Laura Krumm\, baritone Simon Barrad\, and pianist Eric Zivian. $40 general\, $10 students.
URL:https://www.visiteureka.com/event/eureka-chamber-music-series-presents-tears-of-gold/
LOCATION:Calvary Lutheran Church\, 716 South Avenue\, Eureka\, CA\, 95503\, United States
CATEGORIES:Concert
ATTACH;FMTTYPE=image/jpeg:https://www.visiteureka.com/wp-content/uploads/2025/11/Tears-of-Gold-smaller-Eureka-Chamber-Music.jpg
END:VEVENT
BEGIN:VEVENT
DTSTART;TZID=UTC:20260307T180000
DTEND;TZID=UTC:20261216T210000
DTSTAMP:20260420T055746
CREATED:20250620T083749Z
LAST-MODIFIED:20260305T075216Z
UID:10000092-1772906400-1797454800@www.visiteureka.com
SUMMARY:Arts Alive
DESCRIPTION:Our monthly celebration of creativity that brings the city to life with late-night galleries and street performances. \nNotes: This event occurs on the first Saturday of every month \nFrequency: Monthly
URL:https://www.visiteureka.com/event/arts-alive-eureka/2026-03-07/
LOCATION:Downtown & Old Town Eureka\, Eureka\, CA\, 95501\, United States
ATTACH;FMTTYPE=image/jpeg:https://www.visiteureka.com/wp-content/uploads/2025/06/Arts-Alive_55DB30BD-A621-D703-49FD77F7E1DF6998_55dc092c-abba-360d-10edb3f1d09559a6.jpg
END:VEVENT
BEGIN:VEVENT
DTSTART;TZID=UTC:20260314T180000
DTEND;TZID=UTC:20261121T000000
DTSTAMP:20260420T055746
CREATED:20260224T132140Z
LAST-MODIFIED:20260305T075615Z
UID:10000086-1773511200-1795219200@www.visiteureka.com
SUMMARY:Humboldt Roller Derby
DESCRIPTION:Catch a high-energy home bout at the fairgrounds—it’s a distinct local favorite with a rowdy\, fun atmosphere.
URL:https://www.visiteureka.com/event/humboldt-roller-derby/2026-03-14/
LOCATION:Redwood Acres\, Eureka\, CA\, 95503\, United States
ATTACH;FMTTYPE=image/webp:https://www.visiteureka.com/wp-content/uploads/2026/02/HRD-logo_1669057027.webp
END:VEVENT
BEGIN:VEVENT
DTSTART;TZID=UTC:20260315T153000
DTEND;TZID=UTC:20260315T230000
DTSTAMP:20260420T055747
CREATED:20260224T132708Z
LAST-MODIFIED:20260305T114821Z
UID:10000087-1773588600-1773615600@www.visiteureka.com
SUMMARY:Red Carpet Gala
DESCRIPTION:Walk the red carpet at the historic Eureka Theater for an Oscar-viewing party that celebrates our region’s film history. \nFrequency: Annually
URL:https://www.visiteureka.com/event/red-carpet-gala/2026-03-15/
LOCATION:Eureka Theater\, 612 F St.\, Eureka\, Eureka\, CA\, 95501\, United States
ATTACH;FMTTYPE=image/jpeg:https://www.visiteureka.com/wp-content/uploads/2026/02/image-1.jpg
END:VEVENT
BEGIN:VEVENT
DTSTART;TZID=UTC:20260404T180000
DTEND;TZID=UTC:20270113T210000
DTSTAMP:20260420T055747
CREATED:20250620T083749Z
LAST-MODIFIED:20260305T075216Z
UID:10000093-1775325600-1799874000@www.visiteureka.com
SUMMARY:Arts Alive
DESCRIPTION:Our monthly celebration of creativity that brings the city to life with late-night galleries and street performances. \nNotes: This event occurs on the first Saturday of every month \nFrequency: Monthly
URL:https://www.visiteureka.com/event/arts-alive-eureka/2026-04-04/
LOCATION:Downtown & Old Town Eureka\, Eureka\, CA\, 95501\, United States
ATTACH;FMTTYPE=image/jpeg:https://www.visiteureka.com/wp-content/uploads/2025/06/Arts-Alive_55DB30BD-A621-D703-49FD77F7E1DF6998_55dc092c-abba-360d-10edb3f1d09559a6.jpg
END:VEVENT
BEGIN:VEVENT
DTSTART;TZID=UTC:20260418T180000
DTEND;TZID=UTC:20261226T000000
DTSTAMP:20260420T055747
CREATED:20260224T132140Z
LAST-MODIFIED:20260305T075615Z
UID:10000102-1776535200-1798243200@www.visiteureka.com
SUMMARY:Humboldt Roller Derby
DESCRIPTION:Catch a high-energy home bout at the fairgrounds—it’s a distinct local favorite with a rowdy\, fun atmosphere.
URL:https://www.visiteureka.com/event/humboldt-roller-derby/2026-04-18/
LOCATION:Redwood Acres\, Eureka\, CA\, 95503\, United States
ATTACH;FMTTYPE=image/webp:https://www.visiteureka.com/wp-content/uploads/2026/02/HRD-logo_1669057027.webp
END:VEVENT
BEGIN:VEVENT
DTSTART;TZID=UTC:20260425T100000
DTEND;TZID=UTC:20260425T100000
DTSTAMP:20260420T055747
CREATED:20260402T133012Z
LAST-MODIFIED:20260402T133054Z
UID:10000175-1777111200-1777111200@www.visiteureka.com
SUMMARY:Rhododendron Parade
DESCRIPTION:A beloved Eureka tradition celebrating the North Coast’s iconic blooms with floats\, marching bands\, and the whole town turning out along the route. \nFrequency : Annually
URL:https://www.visiteureka.com/event/rhododendron-parade/2026-04-25/
LOCATION:26th Annual Rhododendron Parade\, Begins at 7th & E Streets\, Judging at Henderson & F St\, Eureka\, CA\, 95501\, United States
ATTACH;FMTTYPE=image/png:https://www.visiteureka.com/wp-content/uploads/2026/04/Capture-1.png
END:VEVENT
BEGIN:VEVENT
DTSTART;TZID=UTC:20260501T150000
DTEND;TZID=UTC:20260502T190000
DTSTAMP:20260420T055747
CREATED:20260402T132439Z
LAST-MODIFIED:20260402T132439Z
UID:10000174-1777647600-1777748400@www.visiteureka.com
SUMMARY:Annual Plant Sale
DESCRIPTION:One of the Botanical Garden’s biggest fundraisers\, with native plants\, perennials\, ferns\, roses\, succulents\, herbs\, and more. This year features food trucks and live music for a full family-friendly day out. \nFrequency: Annually \nTime  : Fri 3–7 PM (Members Only); Sat 9 AM–3 PM (Open to Public)
URL:https://www.visiteureka.com/event/annual-plant-sale/2026-05-01/
LOCATION:Humboldt Botanical Gardens\, Eureka\, CA\, 95501\, United States
CATEGORIES:Business Event or Sale
ATTACH;FMTTYPE=image/png:https://www.visiteureka.com/wp-content/uploads/2026/04/Capture.png
END:VEVENT
BEGIN:VEVENT
DTSTART;TZID=UTC:20260502T180000
DTEND;TZID=UTC:20270210T210000
DTSTAMP:20260420T055747
CREATED:20250620T083749Z
LAST-MODIFIED:20260305T075216Z
UID:10000094-1777744800-1802293200@www.visiteureka.com
SUMMARY:Arts Alive
DESCRIPTION:Our monthly celebration of creativity that brings the city to life with late-night galleries and street performances. \nNotes: This event occurs on the first Saturday of every month \nFrequency: Monthly
URL:https://www.visiteureka.com/event/arts-alive-eureka/2026-05-02/
LOCATION:Downtown & Old Town Eureka\, Eureka\, CA\, 95501\, United States
ATTACH;FMTTYPE=image/jpeg:https://www.visiteureka.com/wp-content/uploads/2025/06/Arts-Alive_55DB30BD-A621-D703-49FD77F7E1DF6998_55dc092c-abba-360d-10edb3f1d09559a6.jpg
END:VEVENT
BEGIN:VEVENT
DTSTART;TZID=UTC:20260516T100000
DTEND;TZID=UTC:20260517T170000
DTSTAMP:20260420T055747
CREATED:20260402T133624Z
LAST-MODIFIED:20260402T133624Z
UID:10000176-1778925600-1779037200@www.visiteureka.com
SUMMARY:Redwood Coast Kite Festival
DESCRIPTION:Free waterfront festival with professional kite demos\, giant inflatable kites\, an artisan fair\, live music\, and free kites for kids along Humboldt Bay. \nFrequency: Annually
URL:https://www.visiteureka.com/event/redwood-coast-kite-festival-2/2026-05-16/
LOCATION:Halvorsen Waterfront Park\, Eureka\, CA\, 95501\, United States
ATTACH;FMTTYPE=image/jpeg:https://www.visiteureka.com/wp-content/uploads/2026/04/Capture.jpg
END:VEVENT
BEGIN:VEVENT
DTSTART;TZID=UTC:20260522T173000
DTEND;TZID=UTC:20260814T203000
DTSTAMP:20260420T055747
CREATED:20250509T125532Z
LAST-MODIFIED:20260415T070123Z
UID:10000001-1779471000-1786739400@www.visiteureka.com
SUMMARY:Eureka Friday Night Markets
DESCRIPTION:Summer street market with local food\, makers\, and live tunes. Note: We’re skipping July 3rd for the holiday. \nFrequency : Weekly \nTiming : Fridays 5:30–8:30 PM
URL:https://www.visiteureka.com/event/carter-house-inns/2026-05-22/
LOCATION:Old Town Gazebo\, 2nd & F St\, Old Town Eureka\, Eureka\, 95501\, United States
ATTACH;FMTTYPE=image/jpeg:https://www.visiteureka.com/wp-content/uploads/2025/05/Capture_2D2661D9-BC74-540B-E6BB447BF1A6425D_2d286f7c-b14a-5428-513c46fb89870baa.jpg
END:VEVENT
BEGIN:VEVENT
DTSTART;TZID=UTC:20260523T000000
DTEND;TZID=UTC:20260525T000000
DTSTAMP:20260420T055747
CREATED:20260225T073956Z
LAST-MODIFIED:20260305T115006Z
UID:10000088-1779494400-1779667200@www.visiteureka.com
SUMMARY:Kinetic Grand Championship
DESCRIPTION:“The Glorious Three Days” of art and engineering as wacky amphibious sculptures race through the streets and bay. \nFrequency : Annually
URL:https://www.visiteureka.com/event/kinetic-grand-championship/2026-05-23/
LOCATION:Arcata Plaza Farmers’ Market\, G and\, 8th St\, Arcata\, CA\, 95521\, United States
ATTACH;FMTTYPE=image/webp:https://www.visiteureka.com/wp-content/uploads/2026/02/ETS-L-KINETIC-0529-10.webp
END:VEVENT
BEGIN:VEVENT
DTSTART;TZID=UTC:20260528T000000
DTEND;TZID=UTC:20260531T000000
DTSTAMP:20260420T055747
CREATED:20260225T074644Z
LAST-MODIFIED:20260305T115048Z
UID:10000089-1779926400-1780185600@www.visiteureka.com
SUMMARY:Forest Moon Festival
DESCRIPTION:A timeless celebration of our local Star Wars filming history with themed events tucked away in the redwoods. \nFrequency : Annually
URL:https://www.visiteureka.com/event/forest-moon-festival/2026-05-28/
LOCATION:Multiple Location\, Arcata & Eureka\, CA\, United States
ATTACH;FMTTYPE=image/webp:https://www.visiteureka.com/wp-content/uploads/2026/02/images.webp
END:VEVENT
BEGIN:VEVENT
DTSTART;TZID=UTC:20260529T173000
DTEND;TZID=UTC:20260821T203000
DTSTAMP:20260420T055747
CREATED:20250509T125532Z
LAST-MODIFIED:20260415T070123Z
UID:10000106-1780075800-1787344200@www.visiteureka.com
SUMMARY:Eureka Friday Night Markets
DESCRIPTION:Summer street market with local food\, makers\, and live tunes. Note: We’re skipping July 3rd for the holiday. \nFrequency : Weekly \nTiming : Fridays 5:30–8:30 PM
URL:https://www.visiteureka.com/event/carter-house-inns/2026-05-29/
LOCATION:Old Town Gazebo\, 2nd & F St\, Old Town Eureka\, Eureka\, 95501\, United States
ATTACH;FMTTYPE=image/jpeg:https://www.visiteureka.com/wp-content/uploads/2025/05/Capture_2D2661D9-BC74-540B-E6BB447BF1A6425D_2d286f7c-b14a-5428-513c46fb89870baa.jpg
END:VEVENT
BEGIN:VEVENT
DTSTART;TZID=UTC:20260530T170000
DTEND;TZID=UTC:20260530T210000
DTSTAMP:20260420T055747
CREATED:20260415T065819Z
LAST-MODIFIED:20260415T065853Z
UID:10000182-1780160400-1780174800@www.visiteureka.com
SUMMARY:Celebration of the Arts Gala
DESCRIPTION:The Humboldt Arts Council’s annual gala at the Morris Graves Museum of Art\, honoring outstanding contributions to the arts. This year’s theme is “Art Grows Here\,” recognizing master woodworker and historical conservator Eric Hollenbeck. \nFrequency : Annually \nTime : 5-9 PM
URL:https://www.visiteureka.com/event/celebration-of-the-arts-gala/2026-05-30/
LOCATION:Morris Graves Museum of Art\, 636 F St\, Eureka\, CA\, 95501\, United States
ATTACH;FMTTYPE=image/jpeg:https://www.visiteureka.com/wp-content/uploads/2026/04/Visit-Eureka-Morris-Graves-1-1-1.jpg
END:VEVENT
BEGIN:VEVENT
DTSTART;TZID=UTC:20260604T100000
DTEND;TZID=UTC:20261112T130000
DTSTAMP:20260420T055747
CREATED:20250624T120048Z
LAST-MODIFIED:20260305T114654Z
UID:10000005-1780567200-1794488400@www.visiteureka.com
SUMMARY:Farmer’s Market – Henderson Center
DESCRIPTION:A popular mid-week tradition in Henderson Center offering fresh produce\, local crafts\, and a cozy community vibe. \nFrequency: Weekly \nTime: Thursdays 10 AM–1 PM
URL:https://www.visiteureka.com/event/farmers-market-henderson-center/2026-06-04/
LOCATION:Henderson Center\, F & Henderson St\, Eureka\, CA\, 95501\, United States
ATTACH;FMTTYPE=image/jpeg:https://www.visiteureka.com/wp-content/uploads/2025/06/arcata-farmers-market-20-98ade6215056a36_98ade7ed-5056-a36a-09bb95de4d2f1dd7.jpg
END:VEVENT
BEGIN:VEVENT
DTSTART;TZID=UTC:20260605T173000
DTEND;TZID=UTC:20260828T203000
DTSTAMP:20260420T055747
CREATED:20250509T125532Z
LAST-MODIFIED:20260415T070123Z
UID:10000107-1780680600-1787949000@www.visiteureka.com
SUMMARY:Eureka Friday Night Markets
DESCRIPTION:Summer street market with local food\, makers\, and live tunes. Note: We’re skipping July 3rd for the holiday. \nFrequency : Weekly \nTiming : Fridays 5:30–8:30 PM
URL:https://www.visiteureka.com/event/carter-house-inns/2026-06-05/
LOCATION:Old Town Gazebo\, 2nd & F St\, Old Town Eureka\, Eureka\, 95501\, United States
ATTACH;FMTTYPE=image/jpeg:https://www.visiteureka.com/wp-content/uploads/2025/05/Capture_2D2661D9-BC74-540B-E6BB447BF1A6425D_2d286f7c-b14a-5428-513c46fb89870baa.jpg
END:VEVENT
BEGIN:VEVENT
DTSTART;TZID=UTC:20260606T180000
DTEND;TZID=UTC:20270317T210000
DTSTAMP:20260420T055747
CREATED:20250620T083749Z
LAST-MODIFIED:20260305T075216Z
UID:10000095-1780768800-1805317200@www.visiteureka.com
SUMMARY:Arts Alive
DESCRIPTION:Our monthly celebration of creativity that brings the city to life with late-night galleries and street performances. \nNotes: This event occurs on the first Saturday of every month \nFrequency: Monthly
URL:https://www.visiteureka.com/event/arts-alive-eureka/2026-06-06/
LOCATION:Downtown & Old Town Eureka\, Eureka\, CA\, 95501\, United States
ATTACH;FMTTYPE=image/jpeg:https://www.visiteureka.com/wp-content/uploads/2025/06/Arts-Alive_55DB30BD-A621-D703-49FD77F7E1DF6998_55dc092c-abba-360d-10edb3f1d09559a6.jpg
END:VEVENT
BEGIN:VEVENT
DTSTART;TZID=UTC:20260611T100000
DTEND;TZID=UTC:20261119T130000
DTSTAMP:20260420T055747
CREATED:20250624T120048Z
LAST-MODIFIED:20260305T114654Z
UID:10000151-1781172000-1795093200@www.visiteureka.com
SUMMARY:Farmer’s Market – Henderson Center
DESCRIPTION:A popular mid-week tradition in Henderson Center offering fresh produce\, local crafts\, and a cozy community vibe. \nFrequency: Weekly \nTime: Thursdays 10 AM–1 PM
URL:https://www.visiteureka.com/event/farmers-market-henderson-center/2026-06-11/
LOCATION:Henderson Center\, F & Henderson St\, Eureka\, CA\, 95501\, United States
ATTACH;FMTTYPE=image/jpeg:https://www.visiteureka.com/wp-content/uploads/2025/06/arcata-farmers-market-20-98ade6215056a36_98ade7ed-5056-a36a-09bb95de4d2f1dd7.jpg
END:VEVENT
BEGIN:VEVENT
DTSTART;TZID=UTC:20260611T180000
DTEND;TZID=UTC:20260813T200000
DTSTAMP:20260420T055747
CREATED:20250620T083610Z
LAST-MODIFIED:20260305T112103Z
UID:10000002-1781200800-1786651200@www.visiteureka.com
SUMMARY:Concerts on the Boardwalk
DESCRIPTION:Free weekly live music featuring local bands along our distinct and historic waterfront. \nTime : Thursdays 6–8 PM
URL:https://www.visiteureka.com/event/redwood-coast-kite-festival/2026-06-11/
LOCATION:Madaket Plaza (1st & C St)\, Eureka\, CA\, 95501\, United States
ATTACH;FMTTYPE=image/jpeg:https://www.visiteureka.com/wp-content/uploads/2025/06/concert-series-eureka-board0_5e0429f2-5056-a36a-093e24ded3353eef.jpg
END:VEVENT
BEGIN:VEVENT
DTSTART;TZID=UTC:20260612T173000
DTEND;TZID=UTC:20260904T203000
DTSTAMP:20260420T055747
CREATED:20250509T125532Z
LAST-MODIFIED:20260415T070123Z
UID:10000108-1781285400-1788553800@www.visiteureka.com
SUMMARY:Eureka Friday Night Markets
DESCRIPTION:Summer street market with local food\, makers\, and live tunes. Note: We’re skipping July 3rd for the holiday. \nFrequency : Weekly \nTiming : Fridays 5:30–8:30 PM
URL:https://www.visiteureka.com/event/carter-house-inns/2026-06-12/
LOCATION:Old Town Gazebo\, 2nd & F St\, Old Town Eureka\, Eureka\, 95501\, United States
ATTACH;FMTTYPE=image/jpeg:https://www.visiteureka.com/wp-content/uploads/2025/05/Capture_2D2661D9-BC74-540B-E6BB447BF1A6425D_2d286f7c-b14a-5428-513c46fb89870baa.jpg
END:VEVENT
BEGIN:VEVENT
DTSTART;TZID=UTC:20260613T090000
DTEND;TZID=UTC:20261024T130000
DTSTAMP:20260420T055747
CREATED:20250624T120333Z
LAST-MODIFIED:20260305T112321Z
UID:10000006-1781341200-1792846800@www.visiteureka.com
SUMMARY:Humboldt Dockside Market
DESCRIPTION:A waterfront market showcasing fresh seafood\, prepared foods\, and local crafts right by the bay. \nFrequency : Biweekly \nTime : Saturdays 9 AM–1 PM
URL:https://www.visiteureka.com/event/humboldt-dockside-market/2026-06-13/
LOCATION:Madaket Plaza\, Waterfront & C St\, Eureka\, CA\, 95501\, United States
ATTACH;FMTTYPE=image/jpeg:https://www.visiteureka.com/wp-content/uploads/2025/06/dockside4_orig.jpg
END:VEVENT
BEGIN:VEVENT
DTSTART;TZID=UTC:20260618T000000
DTEND;TZID=UTC:20260622T233000
DTSTAMP:20260420T055747
CREATED:20260415T065001Z
LAST-MODIFIED:20260415T065545Z
UID:10000177-1781740800-1782171000@www.visiteureka.com
SUMMARY:Juneteenth Cultural Festival
DESCRIPTION:A multi-day celebration of emancipation through culture\, education\, art\, and community connection. Presented by Black Humboldt and the Eureka Chapter of the NAACP\, the festival spans multiple venues with a speaker series\, live music\, line dancing\, a vendor village\, kids’ zone\, and the main Day Festival at Halvorsen Park. \nFrequency :  Annually \nTime : Varies \nVanues : Multiple Locations (Eureka\, Arcata\, Blue Lake)
URL:https://www.visiteureka.com/event/juneteenth-cultural-festival/2026-06-18/
LOCATION:Arcata\, Arcata\, CA\, 95521\, United States
ATTACH;FMTTYPE=image/jpeg:https://www.visiteureka.com/wp-content/uploads/2026/04/Juneteenth-155-1.jpg
END:VEVENT
BEGIN:VEVENT
DTSTART;TZID=UTC:20260618T100000
DTEND;TZID=UTC:20261126T130000
DTSTAMP:20260420T055747
CREATED:20250624T120048Z
LAST-MODIFIED:20260305T114654Z
UID:10000152-1781776800-1795698000@www.visiteureka.com
SUMMARY:Farmer’s Market – Henderson Center
DESCRIPTION:A popular mid-week tradition in Henderson Center offering fresh produce\, local crafts\, and a cozy community vibe. \nFrequency: Weekly \nTime: Thursdays 10 AM–1 PM
URL:https://www.visiteureka.com/event/farmers-market-henderson-center/2026-06-18/
LOCATION:Henderson Center\, F & Henderson St\, Eureka\, CA\, 95501\, United States
ATTACH;FMTTYPE=image/jpeg:https://www.visiteureka.com/wp-content/uploads/2025/06/arcata-farmers-market-20-98ade6215056a36_98ade7ed-5056-a36a-09bb95de4d2f1dd7.jpg
END:VEVENT
END:VCALENDAR