BEGIN:VCALENDAR
VERSION:2.0
PRODID:-//Visit Eureka - ECPv6.15.19//NONSGML v1.0//EN
CALSCALE:GREGORIAN
METHOD:PUBLISH
X-ORIGINAL-URL:https://www.visiteureka.com
X-WR-CALDESC:Events for Visit Eureka
REFRESH-INTERVAL;VALUE=DURATION:PT1H
X-Robots-Tag:noindex
X-PUBLISHED-TTL:PT1H
BEGIN:VTIMEZONE
TZID:UTC
BEGIN:STANDARD
TZOFFSETFROM:+0000
TZOFFSETTO:+0000
TZNAME:UTC
DTSTART:20240101T000000
END:STANDARD
END:VTIMEZONE
BEGIN:VEVENT
DTSTART;TZID=UTC:20251219T173000
DTEND;TZID=UTC:20251219T190000
DTSTAMP:20260422T214245
CREATED:20251119T080131Z
LAST-MODIFIED:20251203T123313Z
UID:10000049-1766165400-1766170800@www.visiteureka.com
SUMMARY:Kids Cookie Decorating Class (Christmas theme)
DESCRIPTION:Kids Cookie Making
URL:https://www.visiteureka.com/event/kids-cookie-decorating-class-christmas-theme/
LOCATION:Carl Johnson Company\, 3950 Jacobs Ave\, Eureka\, CA\, 95501\, United States
CATEGORIES:Holiday Activity
ATTACH;FMTTYPE=image/jpeg:https://www.visiteureka.com/wp-content/uploads/2025/11/IMG_2054-Dayna-Bubenik.jpeg
END:VEVENT
BEGIN:VEVENT
DTSTART;TZID=UTC:20251219T190000
DTEND;TZID=UTC:20251219T210000
DTSTAMP:20260422T214245
CREATED:20251119T075247Z
LAST-MODIFIED:20251119T075247Z
UID:10000044-1766170800-1766178000@www.visiteureka.com
SUMMARY:North Coast Dance "The Nutcracker"
DESCRIPTION:Local ballet production. A holiday tradition.
URL:https://www.visiteureka.com/event/north-coast-dance-the-nutcracker-3/
LOCATION:Arkley Center for Performing Arts\, 412 G St\, Eureka\, CA\, 85501\, United States
CATEGORIES:Holiday Activity
ATTACH;FMTTYPE=image/png:https://www.visiteureka.com/wp-content/uploads/2025/11/North-Coast-Dance-The-Nutcracker-2.png
END:VEVENT
BEGIN:VEVENT
DTSTART;TZID=UTC:20251220T140000
DTEND;TZID=UTC:20251220T163000
DTSTAMP:20260422T214245
CREATED:20251205T121243Z
LAST-MODIFIED:20251205T122535Z
UID:10000077-1766239200-1766248200@www.visiteureka.com
SUMMARY:Holiday Matinee: Home Alone
DESCRIPTION:The votes are in and the people have spoken! The ultimate holiday comedy for a family matinee\, and Eureak Theater is delighted to deliver the classic family film HOME ALONE. Get ready to cheer for Kevin McCallister as he defends his house from the Wet Bandits in this hilarious and heartwarming holiday riot. Eureka Theater is making this screening an event for the whole family. Thanks to the generous Humboldt Mortgage Company\, kids under 12 get in for FREE! As a special holiday surprise\, Santa Claus himself will be stopping by with free hot chocolate and candy canes for everyone. Adults $10 \nNote : Kids under 12 are FREE
URL:https://www.visiteureka.com/event/holiday-matinee-home-alone/
LOCATION:Eureka Theater\, 612 F St.\, Eureka\, Eureka\, CA\, 95501\, United States
CATEGORIES:Holiday Activity
ATTACH;FMTTYPE=image/jpeg:https://www.visiteureka.com/wp-content/uploads/2025/12/home-alone-Nate-Adams.jpg
END:VEVENT
BEGIN:VEVENT
DTSTART;TZID=UTC:20251220T140000
DTEND;TZID=UTC:20251221T160000
DTSTAMP:20260422T214245
CREATED:20251119T075432Z
LAST-MODIFIED:20251119T075432Z
UID:10000045-1766239200-1766332800@www.visiteureka.com
SUMMARY:North Coast Dance "The Nutcracker"
DESCRIPTION:Local ballet production. A holiday tradition.
URL:https://www.visiteureka.com/event/north-coast-dance-the-nutcracker-4/
LOCATION:Arkley Center for Performing Arts\, 412 G St\, Eureka\, CA\, 85501\, United States
CATEGORIES:Holiday Activity
ATTACH;FMTTYPE=image/png:https://www.visiteureka.com/wp-content/uploads/2025/11/North-Coast-Dance-The-Nutcracker-3.png
END:VEVENT
BEGIN:VEVENT
DTSTART;TZID=UTC:20251220T170000
DTEND;TZID=UTC:20251220T180000
DTSTAMP:20260422T214245
CREATED:20251119T075914Z
LAST-MODIFIED:20251203T123303Z
UID:10000048-1766250000-1766253600@www.visiteureka.com
SUMMARY:Beginners Sourdough Class
DESCRIPTION:Sourdough making
URL:https://www.visiteureka.com/event/beginners-sourdough-class-2/
LOCATION:Carl Johnson Company\, 3950 Jacobs Ave\, Eureka\, CA\, 95501\, United States
CATEGORIES:Holiday Activity
ATTACH;FMTTYPE=image/jpeg:https://www.visiteureka.com/wp-content/uploads/2025/11/IMG_2053-Dayna-Bubenik.jpeg
END:VEVENT
BEGIN:VEVENT
DTSTART;TZID=UTC:20251220T170000
DTEND;TZID=UTC:20260104T200000
DTSTAMP:20260422T214245
CREATED:20251119T071246Z
LAST-MODIFIED:20251203T123241Z
UID:10000036-1766250000-1767556800@www.visiteureka.com
SUMMARY:Zoo Lights at Sequoia Park Zoo presented by City of Eureka
DESCRIPTION:Zoo Lights is an illuminated\, directional pathway through the Zoo that features holiday displays\, a beautifully lit Redwood Sky Walk\, and Humboldt’s tallest living holiday tree. \nSequoia Park Zoo will be hosting Zoo Lights extended hours every night (except Christmas!) December 20\, 2025 through January 4\, 2026 from 5:00pm-8:00pm. \nAdmission is $5 per person. Tickets may be purchased at the Zoo ticket booth. Details at redwoodzoo.org \nPlease note: No Zoo Lights on Christmas Day\, December 25\, 2025
URL:https://www.visiteureka.com/event/zoo-lights-at-sequoia-park-zoo-presented-by-city-of-eureka/
LOCATION:Sequoia Park Zoo\, 3414 W Street\, Eureka\, CA\, 95501\, United States
CATEGORIES:Holiday Activity
ATTACH;FMTTYPE=image/png:https://www.visiteureka.com/wp-content/uploads/2025/11/Zoo-Lights-2025-EFTH-Kate-Baldwin.png
END:VEVENT
BEGIN:VEVENT
DTSTART;TZID=UTC:20251220T190000
DTEND;TZID=UTC:20251220T220000
DTSTAMP:20260422T214245
CREATED:20251205T121412Z
LAST-MODIFIED:20251205T121412Z
UID:10000078-1766257200-1766268000@www.visiteureka.com
SUMMARY:Classic Holiday: National Lampoon's Christmas Vacation
DESCRIPTION:Eureka Theater presents a special screening of NATIONAL LAMPOON’S CHRISTMAS VACATION. \nJoin Clark Griswold and his family as he plans the perfect “old-fashioned family Christmas” and everything that can go wrong\, does. This comedy classic is packed with more laughs than Clark has strands of lights on his house. Relive every quotable moment\, from the jelly of the month club to the squirrel in the tree\, on the big screen. \nAnd the holiday fun does not stop there. Santa Claus is making a special return visit for this screening! He will be stopping by with free candy canes and hot chocolate for everyone.\n$10 Adults/ $5 Kids 12 and under
URL:https://www.visiteureka.com/event/classic-holiday-national-lampoons-christmas-vacation/
LOCATION:Eureka Theater\, 612 F St.\, Eureka\, Eureka\, CA\, 95501\, United States
CATEGORIES:Holiday Activity
ATTACH;FMTTYPE=image/jpeg:https://www.visiteureka.com/wp-content/uploads/2025/12/christmas-vacation-Nate-Adams.jpeg
END:VEVENT
BEGIN:VEVENT
DTSTART;TZID=UTC:20251221T150000
DTEND;TZID=UTC:20251221T170000
DTSTAMP:20260422T214245
CREATED:20251205T122847Z
LAST-MODIFIED:20251205T122847Z
UID:10000082-1766329200-1766336400@www.visiteureka.com
SUMMARY:McKinleyville Community Choir
DESCRIPTION:This free concert is open to all \nNote : Donations are gladly accepted
URL:https://www.visiteureka.com/event/mckinleyville-community-choir-2/
LOCATION:Azalea Hall\, 1620 Pickett Rd.\, McKinleyville\, CA\, 95519\, United States
CATEGORIES:Holiday Activity
ATTACH;FMTTYPE=image/png:https://www.visiteureka.com/wp-content/uploads/2025/12/McKinleyville-Choir.png
END:VEVENT
BEGIN:VEVENT
DTSTART;TZID=UTC:20251222T173000
DTEND;TZID=UTC:20251222T190000
DTSTAMP:20260422T214245
CREATED:20251119T081054Z
LAST-MODIFIED:20251203T123223Z
UID:10000052-1766424600-1766430000@www.visiteureka.com
SUMMARY:Cookie Decorating Class
DESCRIPTION:Cookie Decorating
URL:https://www.visiteureka.com/event/cookie-decorating-class/
LOCATION:Carl Johnson Company\, 3950 Jacobs Ave\, Eureka\, CA\, 95501\, United States
CATEGORIES:Holiday Activity
ATTACH;FMTTYPE=image/png:https://www.visiteureka.com/wp-content/uploads/2025/11/Carl-Johnson-Cookie-Decorating-Class-1.png
END:VEVENT
END:VCALENDAR