BEGIN:VCALENDAR
VERSION:2.0
PRODID:-//Visit Eureka - ECPv6.15.19//NONSGML v1.0//EN
CALSCALE:GREGORIAN
METHOD:PUBLISH
X-ORIGINAL-URL:https://www.visiteureka.com
X-WR-CALDESC:Events for Visit Eureka
REFRESH-INTERVAL;VALUE=DURATION:PT1H
X-Robots-Tag:noindex
X-PUBLISHED-TTL:PT1H
BEGIN:VTIMEZONE
TZID:UTC
BEGIN:STANDARD
TZOFFSETFROM:+0000
TZOFFSETTO:+0000
TZNAME:UTC
DTSTART:20240101T000000
END:STANDARD
END:VTIMEZONE
BEGIN:VEVENT
DTSTART;TZID=UTC:20251101T120000
DTEND;TZID=UTC:20251225T190000
DTSTAMP:20260422T042753
CREATED:20251205T121632Z
LAST-MODIFIED:20251205T122507Z
UID:10000079-1761998400-1766689200@www.visiteureka.com
SUMMARY:Solstice Holiday Pop-Up
DESCRIPTION:Solstice Holiday Pop-Up Shop is an annual event featuring a curated selection of local goods and gifts from near and far. \nShop hours are 12:00-7:00 Thursday through Saturday and 12:00-5:00 on Sundays!  \nFree pick-up is also available for online orders.
URL:https://www.visiteureka.com/event/solstice-holiday-pop-up/
LOCATION:524 5th Street\, Eureka\, CA\, 95501\, United States
CATEGORIES:Holiday Activity
ATTACH;FMTTYPE=image/png:https://www.visiteureka.com/wp-content/uploads/2025/12/Visit-Eureka-Solstice-Collective.png
END:VEVENT
BEGIN:VEVENT
DTSTART;TZID=UTC:20251120T180000
DTEND;TZID=UTC:20251231T200000
DTSTAMP:20260422T042753
CREATED:20251119T081413Z
LAST-MODIFIED:20251119T081413Z
UID:10000053-1763661600-1767211200@www.visiteureka.com
SUMMARY:Holiday Paint Nights with Lavender Rose
DESCRIPTION:✨️Nov & Dec 2025 Paint Nights🌟 \n🎨 Thurs 11/20 @ 6pm – Vintage Truck at Lost Coast Brewery\n🎨 Fri 11/21 @ 6pm – Sun & Moon\n🎨 Tues 11/25 @ 6pm – Bears\n🎨 Thurs 12/18 @ 6pm – Snowy Mountain Scenic at Lost Coast Brewery\n🎨 Fri 12/19 @ 6pm – Cardinals\n🎨 Sun 12/21 @ 1pm – Rudolph ALL AGES\n🎨 Tues 12/23 @ 6pm – Northern Lights\n🎨 Sat 12/27 @ 1pm – Stormy Winter Scenic\n🎨 Wed 12/31 @ 6pm – I am Creator Magic✨️ \nAll classes are all ages welcome: Students are expected to be mature enough to stay on task\, in their seats\, and not run around the building. \n🌟 Online registration required.\nBook here: https://www.eventbrite.com/o/lavender-rose-paint-nights-68973477133 \nAll classes are held in Eureka at Lavender Rose Fabrics\, unless otherwise specified.\n*Please Note: Classes at Lost Coast Brewery are upstairs.\n🌟 Lavender Rose Paint Nights is located at 301 West Harris in Eureka\, California.\n707-844-0772
URL:https://www.visiteureka.com/event/holiday-paint-nights-with-lavender-rose/
LOCATION:Lavender Rose Fabrics\, 301 West Harris Street\, Eureka\, CA\, 95503\, United States
CATEGORIES:Holiday Activity
ATTACH;FMTTYPE=image/jpeg:https://www.visiteureka.com/wp-content/uploads/2025/11/inbound2293505120051085969-Diamond-Memories.jpg
END:VEVENT
BEGIN:VEVENT
DTSTART;TZID=UTC:20251130T110000
DTEND;TZID=UTC:20251221T123000
DTSTAMP:20260422T042753
CREATED:20251118T140640Z
LAST-MODIFIED:20251118T140802Z
UID:10000027-1764500400-1766320200@www.visiteureka.com
SUMMARY:Advent Celebration Series
DESCRIPTION:Join each Sunday to focus on the anticipation of the celebration of Christmas
URL:https://www.visiteureka.com/event/advent-celebration-series/
LOCATION:Grace Baptist Church\, 220 Buhne St.\, Eureka\, CA\, 95501\, United States
CATEGORIES:Holiday Activity
ATTACH;FMTTYPE=image/jpeg:https://www.visiteureka.com/wp-content/uploads/2025/11/Advent-Grace-Baptist.jpg
END:VEVENT
BEGIN:VEVENT
DTSTART;TZID=UTC:20251212T100000
DTEND;TZID=UTC:20251214T150000
DTSTAMP:20260422T042753
CREATED:20251119T081619Z
LAST-MODIFIED:20251203T123658Z
UID:10000054-1765533600-1765724400@www.visiteureka.com
SUMMARY:"Sew Happy Weekend" with Lavender Rose Fabrics
DESCRIPTION:Join Lavender Rose Fabrics December 12-14\, 2025 for a festive weekend of sewing and fun\, surrounded by other creatives at the Red Lion Hotel in Eureka\, Calif.\n$100 for the 3 day event\n(or $40 for a single day rate) \n-Work on your own UFOs 🛸\n-Fun Holiday Christmas Tree “Make & Take” project included!\n-Shopping @ LRF on-site with a generous discount!\n-Food is not included.\n-ALL skill levels welcome!\n*You must have your own sewing machine and basic understanding of how it works* \nEvent hours:\nFriday 10 AM to 9 PM\nSaturday 10 AM to 9 PM\nSunday 10 AM to 3 PM \nCall Patty to get your name on the list at (530) 945-2770.
URL:https://www.visiteureka.com/event/sew-happy-weekend-with-lavender-rose-fabrics/
LOCATION:Red Lion Hotel\, 1929 4th St\, Eureka\, CA\, 95501\, United States
CATEGORIES:Holiday Activity
ATTACH;FMTTYPE=image/jpeg:https://www.visiteureka.com/wp-content/uploads/2025/11/inbound5767494421583828376-Diamond-Memories.jpg
END:VEVENT
BEGIN:VEVENT
DTSTART;TZID=UTC:20251213T140000
DTEND;TZID=UTC:20251213T160000
DTSTAMP:20260422T042753
CREATED:20251119T074654Z
LAST-MODIFIED:20251119T074654Z
UID:10000043-1765634400-1765641600@www.visiteureka.com
SUMMARY:North Coast Dance "The Nutcracker"
DESCRIPTION:Local ballet production. A holiday tradition.
URL:https://www.visiteureka.com/event/north-coast-dance-the-nutcracker-2/
LOCATION:Arkley Center for Performing Arts\, 412 G St\, Eureka\, CA\, 85501\, United States
CATEGORIES:Holiday Activity
ATTACH;FMTTYPE=image/png:https://www.visiteureka.com/wp-content/uploads/2025/11/North-Coast-Dance-The-Nutcracker-1.png
END:VEVENT
BEGIN:VEVENT
DTSTART;TZID=UTC:20251213T180000
DTEND;TZID=UTC:20251213T210000
DTSTAMP:20260422T042753
CREATED:20251119T113312Z
LAST-MODIFIED:20251119T113312Z
UID:10000069-1765648800-1765659600@www.visiteureka.com
SUMMARY:Truckers Parade Watch Party
DESCRIPTION:Best seat in the house (inside or outside) to watch the parade. Activities for kids. Cookies\, coffee\, hot chocolate. Plenty of room to come in from the rain.
URL:https://www.visiteureka.com/event/truckers-parade-watch-party/
LOCATION:First Presbyterian Church\, 819 - 15th Street\, Eureka\, CA\, 95501\, United States
CATEGORIES:Holiday Activity
END:VEVENT
BEGIN:VEVENT
DTSTART;TZID=UTC:20251213T190000
DTEND;TZID=UTC:20251213T220000
DTSTAMP:20260422T042753
CREATED:20251205T121104Z
LAST-MODIFIED:20251205T121141Z
UID:10000076-1765652400-1765663200@www.visiteureka.com
SUMMARY:Holiday Essential Cinema: It's a Wonderful Life
DESCRIPTION:Eureka Theater invites you to a special screening of the holiday favorite\, IT’S A WONDERFUL LIFE. \nFrank Capra’s masterpiece is more than a movie; it’s a reminder of the value of every single life. Join George Bailey on his profound journey and rediscover why this story of hope\, community\, and second chances has resonated for generations. It’s the perfect way to slow down and soak in the true spirit of the season. \nGather your friends and family to share this beautiful story together. \n$10 Adults/ $5 Kids under 12
URL:https://www.visiteureka.com/event/holiday-essential-cinema-its-a-wonderful-life/
LOCATION:Eureka Theater\, 612 F St.\, Eureka\, Eureka\, CA\, 95501\, United States
CATEGORIES:Holiday Activity
ATTACH;FMTTYPE=image/jpeg:https://www.visiteureka.com/wp-content/uploads/2025/12/wonderful-Nate-Adams.jpg
END:VEVENT
END:VCALENDAR