BEGIN:VCALENDAR
VERSION:2.0
PRODID:-//Visit Eureka - ECPv6.15.19//NONSGML v1.0//EN
CALSCALE:GREGORIAN
METHOD:PUBLISH
X-WR-CALNAME:Visit Eureka
X-ORIGINAL-URL:https://www.visiteureka.com
X-WR-CALDESC:Events for Visit Eureka
REFRESH-INTERVAL;VALUE=DURATION:PT1H
X-Robots-Tag:noindex
X-PUBLISHED-TTL:PT1H
BEGIN:VTIMEZONE
TZID:UTC
BEGIN:STANDARD
TZOFFSETFROM:+0000
TZOFFSETTO:+0000
TZNAME:UTC
DTSTART:20240101T000000
END:STANDARD
END:VTIMEZONE
BEGIN:VEVENT
DTSTART;TZID=UTC:20251101T120000
DTEND;TZID=UTC:20251225T190000
DTSTAMP:20260422T040955
CREATED:20251205T121632Z
LAST-MODIFIED:20251205T122507Z
UID:10000079-1761998400-1766689200@www.visiteureka.com
SUMMARY:Solstice Holiday Pop-Up
DESCRIPTION:Solstice Holiday Pop-Up Shop is an annual event featuring a curated selection of local goods and gifts from near and far. \nShop hours are 12:00-7:00 Thursday through Saturday and 12:00-5:00 on Sundays!  \nFree pick-up is also available for online orders.
URL:https://www.visiteureka.com/event/solstice-holiday-pop-up/
LOCATION:524 5th Street\, Eureka\, CA\, 95501\, United States
CATEGORIES:Holiday Activity
ATTACH;FMTTYPE=image/png:https://www.visiteureka.com/wp-content/uploads/2025/12/Visit-Eureka-Solstice-Collective.png
END:VEVENT
BEGIN:VEVENT
DTSTART;TZID=UTC:20251120T180000
DTEND;TZID=UTC:20251231T200000
DTSTAMP:20260422T040955
CREATED:20251119T081413Z
LAST-MODIFIED:20251119T081413Z
UID:10000053-1763661600-1767211200@www.visiteureka.com
SUMMARY:Holiday Paint Nights with Lavender Rose
DESCRIPTION:✨️Nov & Dec 2025 Paint Nights🌟 \n🎨 Thurs 11/20 @ 6pm – Vintage Truck at Lost Coast Brewery\n🎨 Fri 11/21 @ 6pm – Sun & Moon\n🎨 Tues 11/25 @ 6pm – Bears\n🎨 Thurs 12/18 @ 6pm – Snowy Mountain Scenic at Lost Coast Brewery\n🎨 Fri 12/19 @ 6pm – Cardinals\n🎨 Sun 12/21 @ 1pm – Rudolph ALL AGES\n🎨 Tues 12/23 @ 6pm – Northern Lights\n🎨 Sat 12/27 @ 1pm – Stormy Winter Scenic\n🎨 Wed 12/31 @ 6pm – I am Creator Magic✨️ \nAll classes are all ages welcome: Students are expected to be mature enough to stay on task\, in their seats\, and not run around the building. \n🌟 Online registration required.\nBook here: https://www.eventbrite.com/o/lavender-rose-paint-nights-68973477133 \nAll classes are held in Eureka at Lavender Rose Fabrics\, unless otherwise specified.\n*Please Note: Classes at Lost Coast Brewery are upstairs.\n🌟 Lavender Rose Paint Nights is located at 301 West Harris in Eureka\, California.\n707-844-0772
URL:https://www.visiteureka.com/event/holiday-paint-nights-with-lavender-rose/
LOCATION:Lavender Rose Fabrics\, 301 West Harris Street\, Eureka\, CA\, 95503\, United States
CATEGORIES:Holiday Activity
ATTACH;FMTTYPE=image/jpeg:https://www.visiteureka.com/wp-content/uploads/2025/11/inbound2293505120051085969-Diamond-Memories.jpg
END:VEVENT
BEGIN:VEVENT
DTSTART;TZID=UTC:20251130T110000
DTEND;TZID=UTC:20251221T123000
DTSTAMP:20260422T040955
CREATED:20251118T140640Z
LAST-MODIFIED:20251118T140802Z
UID:10000027-1764500400-1766320200@www.visiteureka.com
SUMMARY:Advent Celebration Series
DESCRIPTION:Join each Sunday to focus on the anticipation of the celebration of Christmas
URL:https://www.visiteureka.com/event/advent-celebration-series/
LOCATION:Grace Baptist Church\, 220 Buhne St.\, Eureka\, CA\, 95501\, United States
CATEGORIES:Holiday Activity
ATTACH;FMTTYPE=image/jpeg:https://www.visiteureka.com/wp-content/uploads/2025/11/Advent-Grace-Baptist.jpg
END:VEVENT
BEGIN:VEVENT
DTSTART;TZID=UTC:20251201T080000
DTEND;TZID=UTC:20251207T200000
DTSTAMP:20260422T040955
CREATED:20251119T110222Z
LAST-MODIFIED:20251203T123835Z
UID:10000062-1764576000-1765137600@www.visiteureka.com
SUMMARY:Holiday Art Sale
DESCRIPTION:Holiday Art Sale of Karen Berman’s original abstract and expressive mixed media artwork. Selected paintings 30% off.
URL:https://www.visiteureka.com/event/holiday-art-sale/
LOCATION:Redwood Acres\, Eureka\, CA\, 95503\, United States
CATEGORIES:Holiday Activity
ATTACH;FMTTYPE=image/jpeg:https://www.visiteureka.com/wp-content/uploads/2025/11/85431D40-8029-44A0-9FB0-4ADB596AEDED-karen-berman.jpeg
END:VEVENT
BEGIN:VEVENT
DTSTART;TZID=UTC:20251205T120000
DTEND;TZID=UTC:20251211T080000
DTSTAMP:20260422T040955
CREATED:20251119T080332Z
LAST-MODIFIED:20251203T123736Z
UID:10000050-1764936000-1765440000@www.visiteureka.com
SUMMARY:Online Christmas Auction
DESCRIPTION:Online Christmas Auction
URL:https://www.visiteureka.com/event/online-christmas-auction/
LOCATION:Carl Johnson Company\, 3950 Jacobs Ave\, Eureka\, CA\, 95501\, United States
CATEGORIES:Holiday Activity
ATTACH;FMTTYPE=image/jpeg:https://www.visiteureka.com/wp-content/uploads/2025/11/IMG_2042-Dayna-Bubenik.jpeg
END:VEVENT
BEGIN:VEVENT
DTSTART;TZID=UTC:20251205T193000
DTEND;TZID=UTC:20251206T213000
DTSTAMP:20260422T040955
CREATED:20251119T080539Z
LAST-MODIFIED:20251119T080539Z
UID:10000051-1764963000-1765056600@www.visiteureka.com
SUMMARY:Winter Tales - A Holiday Concert
DESCRIPTION:The Eureka Symphony’s holiday concert takes you into a world of warmth and wonder. The enchanting evening features Tchaikovsky’s timeless Nutcracker Suite\, the rich and spirited Rhythm of the Lights\, A Hanukkah Fantasia by Michael Isaacson\, and Howard Blake’s heartwarming The Snowman\, brought to life by local theater legend Michael Fields. Perfect for families and music lovers of all ages\, this magical concert blends classical elegance with festive storytelling\, celebrating the beauty\, joy\, and traditions of the season in one entrancing performance.\nMore information and tickets are available at www.EurekaSymphony.org. or by calling (707) 845-3655.\nTicket prices range from $21-54\, with tickets at the door\, after 6 p.m.\, for just $15\, or $10 with a student ID – the best available seats. Two children under 12 get in free with every adult ticket purchased.
URL:https://www.visiteureka.com/event/winter-tales-a-holiday-concert/
LOCATION:Arkley Center for Performing Arts\, 412 G St\, Eureka\, CA\, 85501\, United States
CATEGORIES:Holiday Activity
ATTACH;FMTTYPE=image/jpeg:https://www.visiteureka.com/wp-content/uploads/2025/11/Winter-Tales-EUREKA-SYMPHONY-Nancy-Stephenson.jpg
END:VEVENT
BEGIN:VEVENT
DTSTART;TZID=UTC:20251206T110000
DTEND;TZID=UTC:20251206T120000
DTSTAMP:20260422T040955
CREATED:20251118T120656Z
LAST-MODIFIED:20251118T120656Z
UID:10000023-1765018800-1765022400@www.visiteureka.com
SUMMARY:Salty Santa Boat Parade
DESCRIPTION:Salty Santa promises to be as vibrant and enchanting as ever\, featuring a\ncolorful procession of fishing boats\, tug boats\, the historic Madaket\, sailboats\, and a\ndelightful array of small boats all decked out in festive holiday decorations. The highlight\nof the day will be the arrival of Santa Claus himself\, who will be brought to town by\nZerlang’s tugboat\, Pacific Gemini.
URL:https://www.visiteureka.com/event/salty-santa-boat-parade/
LOCATION:Eureka Boardwalk\, Eureka\, CA\, 95501\, United States
CATEGORIES:Holiday Activity
ATTACH;FMTTYPE=image/jpeg:https://www.visiteureka.com/wp-content/uploads/2025/11/salty-santa-Susan-Seaman.jpg
END:VEVENT
BEGIN:VEVENT
DTSTART;TZID=UTC:20251206T110000
DTEND;TZID=UTC:20251206T123000
DTSTAMP:20260422T040955
CREATED:20251119T073110Z
LAST-MODIFIED:20251203T123729Z
UID:10000040-1765018800-1765024200@www.visiteureka.com
SUMMARY:Beginner Wreath Making Class
DESCRIPTION:Wreath Making
URL:https://www.visiteureka.com/event/beginner-wreath-making-class-2/
LOCATION:Carl Johnson Company\, 3950 Jacobs Ave\, Eureka\, CA\, 95501\, United States
CATEGORIES:Holiday Activity
ATTACH;FMTTYPE=image/jpeg:https://www.visiteureka.com/wp-content/uploads/2025/11/IMG_1998-Marketing-Carl-Johnson-Co.-1.jpeg
END:VEVENT
BEGIN:VEVENT
DTSTART;TZID=UTC:20251206T110000
DTEND;TZID=UTC:20251206T140000
DTSTAMP:20260422T040955
CREATED:20251119T111638Z
LAST-MODIFIED:20251119T111638Z
UID:10000065-1765018800-1765029600@www.visiteureka.com
SUMMARY:5th Annual Free Decoration and Toy Giveaway
DESCRIPTION:If you need decorations\, just come by and take what you need. No payment required. This year\, we’re also including toys. \nIf you’d like to donate: We are accepting donations of all faiths. Please drop them off Sunday\, November 30 from 11AM to 1PM or Monday\, December 1 or Wednesday\, December 3 from 1PM to 3PM; or Friday\, December 5 from 10AM to 2PM. (Other drop off periods can be arranged.) \nDecorations and toys should be clean\, usable\, and in good working order.
URL:https://www.visiteureka.com/event/5th-annual-free-decoration-and-toy-giveaway/
LOCATION:239 Buhne Street\, Eureka\, CA\, 95501\, United States
CATEGORIES:Holiday Activity
ATTACH;FMTTYPE=image/jpeg:https://www.visiteureka.com/wp-content/uploads/2025/11/holiday-deco-giveaway-2025-Scott-Q-Marcus.jpg
END:VEVENT
BEGIN:VEVENT
DTSTART;TZID=UTC:20251206T120000
DTEND;TZID=UTC:20251206T140000
DTSTAMP:20260422T040955
CREATED:20251119T082135Z
LAST-MODIFIED:20251119T082135Z
UID:10000055-1765022400-1765029600@www.visiteureka.com
SUMMARY:Cozy Country Christmas
DESCRIPTION:Eureka First Baptist Church will be hosting its annual Women’s Christmas Tea on Saturday\, December 6. This year’s theme is “Cozy Country Christmas” and includes lunch and a program\, starting at noon. Space is limited\, so if you are interested in tickets (suggested donation of $10 each)\, please contact the church office at (707) 443-0406 for more information.
URL:https://www.visiteureka.com/event/cozy-country-christmas/
LOCATION:Eureka First Baptist Church\, 422 Del Norte Street\, Eureka\, CA\, 95519\, United States
CATEGORIES:Holiday Activity
ATTACH;FMTTYPE=image/png:https://www.visiteureka.com/wp-content/uploads/2025/11/Womens-Christmas-Tea.png
END:VEVENT
END:VCALENDAR